Workbook
Name _1_Liikevaihto: 'Instrukcje'!#REF!
Name _10_Muuttuvien_palkkojen_henkilöstösivukulut: 'Instrukcje'!#REF!
Name _12_Kiinteät_palkat_ja_palkkiot: 'Instrukcje'!#REF!
Name _122_Aineet_ja_tarvikkeet: 'Instrukcje'!#REF!
Name _14_Kiinteät_henkilösivukulut: 'Instrukcje'!#REF!
Name _15.05_Yrityskehitys__laki__teknologia_ja_tuotekehityspalvelut: 'Instrukcje'!#REF!
Name _311_Opo_n_maksullinen_korotus_tilikauden_aikana: 'Instrukcje'!#REF!
Name _37.02_TEKES_avustus: 'Instrukcje'!#REF!
Name _4_Liiketoiminnan_muut_tuotot: 'Instrukcje'!#REF!
Name _5_Ostot_tilikauden_aikana_A__Ainekäyttö_S: 'Instrukcje'!#REF!
Name _7_Ulkopuoliset_palvelut: 'Instrukcje'!#REF!
Name _8_Muuttuvat_palkat_ja_palkkiot: 'Instrukcje'!#REF!
Name Alv_laskelma: 'Instrukcje'!$B$52
Name Alv_saldo_ennen_maksuja: 'Instrukcje'!$B$56
Name Arvonlisävero: 'Instrukcje'!$B$38
Name Avustukset: 'Instrukcje'!$B$48
Name Burn_rate: 'Instrukcje'!#REF!
Name Edustuskulut: 'Instrukcje'!$B$27
Name Ennakonpidätykset__keskim.35: 'Instrukcje'!$B$21
Name Erotus_per_kk: 'Instrukcje'!#REF!
Name Erotus_per_kvartaali: 'Instrukcje'!#REF!
Name Henkilösivukulut: 'Instrukcje'!$B$20
Name Internet__tietoliikenne: 'Instrukcje'!$B$30
Name Investoinnit: 'Instrukcje'!$B$37
Name Kassa: 'Instrukcje'!$B$46
Name Kassan_riittävyys: 'Instrukcje'!$B$51
Name Kassavirtalaskelman_kuvaajat: 'Instrukcje'!$A$59
Name Kassavirtalaskelman_ohjeet: 'Instrukcje'!$A$2
Name Kirjanpidon_tulos: 'Instrukcje'!$B$44
Name Kirjanpito_ja_tilintarkastus: 'Instrukcje'!$B$31
Name KK_n_alkukassa: 'Instrukcje'!$B$42
Name KK_n_loppukassa: 'Instrukcje'!$B$43
Name Kumulatiivinen_tulos: 'Instrukcje'!$B$50
Name Kuukauden_Alv: 'Instrukcje'!$B$55
Name Lainat: 'Instrukcje'!$B$49
Name Lankapuhelin__faksi__gsm: 'Instrukcje'!$B$29
Name Laskelman_kohta: 'Instrukcje'!$B$19:$B$57
Name Liiketoiminnan_muut_tuotot: 'Instrukcje'!#REF!
Name Liiketoiminta: 'Instrukcje'!$B$47
Name Mainoskulut__messut: 'Instrukcje'!$B$28
Name Maksettu_Alv: 'Instrukcje'!$B$57
Name Materiaalit_ja_tarvikkeet: 'Instrukcje'!$B$34
Name Muut_alvittomat_kulut: 'Instrukcje'!$B$36
Name Muut_verot: 'Instrukcje'!$B$39
Name Muut_vuokrat__mm.leasing: 'Instrukcje'!$B$25
Name Myynnin_ALV: 'Instrukcje'!#REF!
Name Myynti: 'Instrukcje'!#REF!
Name Myyynnin_Alv: 'Instrukcje'!$B$53
Name Osakepääoma: 'Instrukcje'!$B$41
Name Oston_Alv: 'Instrukcje'!$B$54
Name Palkat_brutto: 'Instrukcje'!$B$19
Name Rahti: 'Instrukcje'!$B$33
Name Suunniteltu_tulos: 'Instrukcje'!#REF!
Name TA_mallin_ohjeet: 'Instrukcje'!#REF!
Name Tavoitekassa: 'Instrukcje'!$B$45
Name Tekes_avustus_osuus: 'Instrukcje'!$B$40
Name Toimiston_vuokra: 'Instrukcje'!$B$24
Name Toimistopalvelut: 'Instrukcje'!$B$26
Name Toteutunut_tulos: 'Instrukcje'!#REF!
Name Työnantajatilitys__10._pvä: 'Instrukcje'!$B$22

Sheet Strona główna
C7: Planowanie Finansowe Spółki
C9: Nazwa spółki: | F9: Własna Spółka Sp. z o. o.
C10: Data sprawozdania: | F10: xx.xx.xxxx
C12: © Jyväskylä University of Applied Science, Materiał szkoleniowy inkubatora

Sheet Gotówka
A2: NAZWA SPÓŁKI: | F2: Rok 1 | O2: Instrukcje obliczania przepływów pieniężnych | U2: Rok 2
B3: ='Strona główna'!F9 | O3: Wersja 2.3.2017
R5: Rok 1 | AG5: Rok 1
F6: miesiąc | G6: miesiąc | H6: miesiąc | I6: miesiąc | J6: miesiąc | K6: miesiąc | L6: miesiąc | M6: miesiąc | N6: miesiąc | O6: miesiąc | P6: miesiąc | Q6: miesiąc | R6: Suma | S6: Na miesiąc | U6: miesiąc | V6: miesiąc | W6: miesiąc | X6: miesiąc | Y6: miesiąc | Z6: miesiąc | AA6: miesiąc | AB6: miesiąc | AC6: miesiąc | AD6: miesiąc | AE6: miesiąc | AF6: miesiąc | AG6: Suma | AH6: Na miesiąc
F7: 1. Miesiąc | G7: 2. Miesiąc | H7: 3. Miesiąc | I7: 4. Miesiąc | J7: 5. Miesiąc | K7: 6. Miesiąc | L7: 7. Miesiąc | M7: 8. Miesiąc | N7: 9. Miesiąc | O7: 10. Miesiąc | P7: 11. Miesiąc | Q7: 12. Miesiąc | U7: 1. Miesiąc | V7: 2. Miesiąc | W7: 3. Miesiąc | X7: 4. Miesiąc | Y7: 5. Miesiąc | Z7: 6. Miesiąc | AA7: 7. Miesiąc | AB7: 8. Miesiąc | AC7: 9. Miesiąc | AD7: 10. Miesiąc | AE7: 11. Miesiąc | AF7: 12. Miesiąc
A8: Łączne przychody (w tym VAT) | F8: =SUM(F9:F22) | G8: =SUM(G9:G22) | H8: =SUM(H9:H22) -> 0 | I8: =SUM(I9:I22) -> 0 | J8: =SUM(J9:J22) -> 0 | K8: =SUM(K9:K22) -> 0 | L8: =SUM(L9:L22) | M8: =SUM(M9:M22) -> 0 | ... Q8: =SUM(Q9:Q22) -> 0 | R8: =SUM(F8:Q8) | S8: =R8/12 | U8: =SUM(U9:U22) | V8: =SUM(V9:V22) | W8: =SUM(W9:W22) -> 0 | X8: =SUM(X9:X22) -> 0 | Y8: =SUM(Y9:Y22) -> 0 | Z8: =SUM(Z9:Z22) -> 0 | AA8: =SUM(AA9:AA22) -> 0 | AB8: =SUM(AB9:AB22) -> 0 | ... AF8: =SUM(AF9:AF22) -> 0 | AG8: =SUM(U8:AF8) | AH8: =AG8/12
C9: Produkt lub grupa klientów | R9: =SUM(F9:Q9) | S9: =SUM(R9/12) | AG9: =SUM(U9:AF9) -> 0 | AH9: =SUM(AG9/12)
C10: Produkt lub grupa klientów | R10: =SUM(F10:Q10) -> 0 | S10: =SUM(R10/12) -> 0 | AG10: =SUM(U10:AF10) -> 0 | AH10: =SUM(AG10/12) -> 0
C11: Produkt lub grupa klientów | R11: =SUM(F11:Q11) -> 0 | S11: =SUM(R11/12) -> 0 | AG11: =SUM(U11:AF11) -> 0 | AH11: =SUM(AG11/12) -> 0
C12: Produkt lub grupa klientów | R12: =SUM(F12:Q12) -> 0 | S12: =SUM(R12/12) -> 0 | AG12: =SUM(U12:AF12) -> 0 | AH12: =SUM(AG12/12) -> 0
C13: Produkt lub grupa klientów | R13: =SUM(F13:Q13) -> 0 | S13: =SUM(R13/12) -> 0 | AG13: =SUM(U13:AF13) -> 0 | AH13: =SUM(AG13/12) -> 0
C14: Produkt lub grupa klientów | R14: =SUM(F14:Q14) -> 0 | S14: =SUM(R14/12) -> 0 | AG14: =SUM(U14:AF14) -> 0 | AH14: =SUM(AG14/12) -> 0
C15: Produkt lub grupa klientów | R15: =SUM(F15:Q15) | S15: =SUM(R15/12) -> 0 | AG15: =SUM(U15:AF15) -> 0 | AH15: =SUM(AG15/12) -> 0
C16: Produkt lub grupa klientów | R16: =SUM(F16:Q16) | S16: =SUM(R16/12) -> 0 | AG16: =SUM(U16:AF16) -> 0 | AH16: =SUM(AG16/12) -> 0
C17: Produkt lub grupa klientów | R17: =SUM(F17:Q17) | S17: =SUM(R17/12) -> 0 | AG17: =SUM(U17:AF17) -> 0 | AH17: =SUM(AG17/12) -> 0
C18: Produkt lub grupa klientów | R18: =SUM(F18:Q18) | S18: =SUM(R18/12) -> 0 | AG18: =SUM(U18:AF18) -> 0 | AH18: =SUM(AG18/12) -> 0
C19: Produkt lub grupa klientów | R19: =SUM(F19:Q19) -> 0 | S19: =SUM(R19/12) -> 0 | AG19: =SUM(U19:AF19) -> 0 | AH19: =SUM(AG19/12) -> 0
C20: Produkt lub grupa klientów | R20: =SUM(F20:Q20) -> 0 | S20: =SUM(R20/12) -> 0 | AG20: =SUM(U20:AF20) -> 0 | AH20: =SUM(AG20/12) -> 0
C21: =CONCATENATE("VAT ",D21*100,"% sales (add % to D21)") | D21: 0.1 | R21: =SUM(F21:Q21) | S21: =SUM(R21/12) | AG21: =SUM(U21:AF21) | AH21: =SUM(AG21/12)
C22: Sprzedaż ze stawką VAT 0% (Handel zagraniczny, etc.) | R22: =SUM(F22:Q22) | S22: =SUM(R22/12) -> 0 | AG22: =SUM(U22:AF22) -> 0 | AH22: =SUM(AG22/12) -> 0
A24: Zakupy bezpośrednie/Podwykonawstwo | F24: =SUM(F25:F28) | G24: =SUM(G25:G28) | H24: =SUM(H25:H28) -> 0 | I24: =SUM(I25:I28) -> 0 | J24: =SUM(J25:J28) -> 0 | K24: =SUM(K25:K28) -> 0 | L24: =SUM(L25:L28) -> 0 | M24: =SUM(M25:M28) -> 0 | ... Q24: =SUM(Q25:Q28) -> 0 | R24: =SUM(F24:Q24) | S24: =SUM(R24/12) -> 0 | U24: =SUM(U25:U28) | V24: =SUM(V25:V28) -> 0 | W24: =SUM(W25:W28) -> 0 | X24: =SUM(X25:X28) -> 0 | Y24: =SUM(Y25:Y28) -> 0 | Z24: =SUM(Z25:Z28) -> 0 | AA24: =SUM(AA25:AA28) -> 0 | AB24: =SUM(AB25:AB28) -> 0 | ... AF24: =SUM(AF25:AF28) -> 0 | AG24: =SUM(U24:AF24) | AH24: =SUM(AG24/12) -> 0
B25: Zakupy materiałowe | R25: =SUM(F25:Q25) -> 0 | S25: =SUM(R25/12) -> 0 | AG25: =SUM(U25:AF25) -> 0 | AH25: =SUM(AG25/12) -> 0
B26: Zakupy w ramach podwykonawstwa | R26: =SUM(F26:Q26) -> 0 | S26: =SUM(R26/12) -> 0 | AG26: =SUM(U26:AF26) -> 0 | AH26: =SUM(AG26/12) -> 0
B27: Inne koszty bezpośrednie | R27: =SUM(F27:Q27) -> 0 | S27: =SUM(R27/12) -> 0 | AG27: =SUM(U27:AF27) -> 0 | AH27: =SUM(AG27/12) -> 0
B28: =CONCATENATE("VAT ",D28*100,"% costs (add % to D28)") | D28: 0.1 | R28: =SUM(F28:Q28) -> 0 | S28: =SUM(R28/12) | AG28: =SUM(U28:AF28) -> 0
A29: Marża na sprzedaży | F29: =F8-F24 | G29: =G8-G24 | H29: =H8-H24 -> 0 | I29: =I8-I24 -> 0 | J29: =J8-J24 -> 0 | K29: =K8-K24 -> 0 | L29: =L8-L24 -> 0 | M29: =M8-M24 -> 0 | ... Q29: =Q8-Q24 -> 0 | R29: =SUM(F29:Q29) -> 0 | S29: =SUM(R29/12) -> 0 | U29: =U8-U24 | V29: =V8-V24 | W29: =W8-W24 -> 0 | X29: =X8-X24 -> 0 | Y29: =Y8-Y24 -> 0 | Z29: =Z8-Z24 -> 0 | AA29: =AA8-AA24 -> 0 | AB29: =AB8-AB24 -> 0 | ... AF29: =AF8-AF24 -> 0 | AG29: =SUM(U29:AF29) -> 0 | AH29: =SUM(AG29/12) -> 0
A30: Marża na sprzedaży % | F30: =IF(F8=0,"",F29/F8) | G30: =IF(G8=0,"",G29/G8) | H30: =IF(H8=0,"",H29/H8) | I30: =IF(I8=0,"",I29/I8) | J30: =IF(J8=0,"",J29/J8) | K30: =IF(K8=0,"",K29/K8) | L30: =IF(L8=0,"",L29/L8) | M30: =IF(M8=0,"",M29/M8) | ... Q30: =IF(Q8=0,"",Q29/Q8) | U30: =IF(U8=0,"",U29/U8) | V30: =IF(V8=0,"",V29/V8) | W30: =IF(W8=0,"",W29/W8) | X30: =IF(X8=0,"",X29/X8) | Y30: =IF(Y8=0,"",Y29/Y8) | Z30: =IF(Z8=0,"",Z29/Z8) | AA30: =IF(AA8=0,"",AA29/AA8) | AB30: =IF(AB8=0,"",AB29/AB8) | ... AF30: =IF(AF8=0,"",AF29/AF8)
A32: Inne przychody biznesowe | F32: =SUM(F33:F34) | G32: =SUM(G33:G34) | H32: =SUM(H33:H34) -> 0 | I32: =SUM(I33:I34) -> 0 | J32: =SUM(J33:J34) -> 0 | K32: =SUM(K33:K34) -> 0 | L32: =SUM(L33:L34) -> 0 | M32: =SUM(M33:M34) -> 0 | ... Q32: =SUM(Q33:Q34) -> 0 | R32: =SUM(F32:Q32) | S32: =SUM(R32/12) | U32: =SUM(U33:U34) | V32: =SUM(V33:V34) -> 0 | W32: =SUM(W33:W34) -> 0 | X32: =SUM(X33:X34) -> 0 | Y32: =SUM(Y33:Y34) -> 0 | Z32: =SUM(Z33:Z34) -> 0 | AA32: =SUM(AA33:AA34) -> 0 | AB32: =SUM(AB33:AB34) -> 0 | ... AF32: =SUM(AF33:AF34) -> 0 | AG32: =SUM(U32:AF32) | AH32: =SUM(AG32/12)
C33: Źródło 1 | R33: =SUM(F33:Q33) | S33: =R33/12 | AG33: =SUM(U33:AF33) | AH33: =AG33/12
C34: Źródło 2 | R34: =SUM(F34:Q34) | S34: =R34/12 | AG34: =SUM(U34:AF34) | AH34: =AG34/12
A36: Wynagrodzenia (suma brutto) | R36: =SUM(F36:Q36) | S36: =SUM(R36/12) | AG36: =SUM(U36:AF36) | AH36: =SUM(AG36/12)
B37: Wynagrodzenia do wypłaty | F37: =F36-(F36*'Instrukcje'!$E$7) | G37: =G36-(G36*'Instrukcje'!$E$7) | H37: =H36-(H36*'Instrukcje'!$E$7) | I37: =I36-(I36*'Instrukcje'!$E$7) | J37: =J36-(J36*'Instrukcje'!$E$7) | K37: =K36-(K36*'Instrukcje'!$E$7) | L37: =L36-(L36*'Instrukcje'!$E$7) | M37: =M36-(M36*'Instrukcje'!$E$7) | ... Q37: =Q36-(Q36*'Instrukcje'!$E$7) | R37: =SUM(F37:Q37) -> 0 | S37: =SUM(R37/12) -> 0 | U37: =U36-(U36*'Instrukcje'!$E$7) | V37: =V36-(V36*'Instrukcje'!$E$7) | W37: =W36-(W36*'Instrukcje'!$E$7) | X37: =X36-(X36*'Instrukcje'!$E$7) | Y37: =Y36-(Y36*'Instrukcje'!$E$7) | Z37: =Z36-(Z36*'Instrukcje'!$E$7) | AA37: =AA36-(AA36*'Instrukcje'!$E$7) | AB37: =AB36-(AB36*'Instrukcje'!$E$7) | ... AF37: =AF36-(AF36*'Instrukcje'!$E$7) | AG37: =SUM(U37:AF37) -> 0 | AH37: =SUM(AG37/12) -> 0
B38: Pośrednie koszty zatrudnienia | F38: =(0.244)*F36 | G38: =(0.244)*G36 | H38: =(0.244)*H36 | I38: =(0.244)*I36 -> 0 | J38: =(0.244)*J36 -> 0 | K38: =(0.244)*K36 -> 0 | L38: =(0.244)*L36 -> 0 | M38: =(0.244)*M36 -> 0 | ... Q38: =(0.244)*Q36 | R38: =SUM(F38:Q38) -> 0 | S38: =SUM(R38/12) -> 0 | U38: =(0.244)*U36 | V38: =(0.244)*V36 | W38: =(0.244)*W36 -> 0 | X38: =(0.244)*X36 -> 0 | Y38: =(0.244)*Y36 -> 0 | Z38: =(0.244)*Z36 -> 0 | AA38: =(0.244)*AA36 -> 0 | AB38: =(0.244)*AB36 -> 0 | ... AF38: =(0.244)*AF36 -> 0 | AG38: =SUM(U38:AF38) -> 0 | AH38: =SUM(AG38/12) -> 0
B39: Płatność pracodawcy | G39: =F36-F37 | H39: =G36-G37 | I39: =H36-H37 -> 0 | J39: =I36-I37 -> 0 | K39: =J36-J37 -> 0 | L39: =K36-K37 -> 0 | M39: =L36-L37 -> 0 | N39: =M36-M37 -> 0 | ... Q39: =P36-P37 -> 0 | R39: =SUM(F39:Q39) -> 0 | S39: =SUM(R39/12) -> 0 | U39: =Q36-Q37 | V39: =U36-U37 | W39: =V36-V37 | X39: =W36-W37 -> 0 | Y39: =X36-X37 -> 0 | Z39: =Y36-Y37 -> 0 | AA39: =Z36-Z37 -> 0 | AB39: =AA36-AA37 -> 0 | AC39: =AB36-AB37 -> 0 | ... AF39: =AE36-AE37 -> 0 | AG39: =SUM(U39:AF39) -> 0 | AH39: =SUM(AG39/12) -> 0
B40: Dobrowolne koszty personelu | R40: =SUM(F40:Q40) -> 0 | S40: =SUM(R40/12) -> 0 | AG40: =SUM(U40:AF40) -> 0 | AH40: =SUM(AG40/12) -> 0
A41: Dane na temat kosztów personelu | D41: łącznie | F41: =SUM(F37:F40) | G41: =SUM(G37:G40) | H41: =SUM(H37:H40) | I41: =SUM(I37:I40) -> 0 | J41: =SUM(J37:J40) -> 0 | K41: =SUM(K37:K40) -> 0 | L41: =SUM(L37:L40) -> 0 | M41: =SUM(M37:M40) -> 0 | ... Q41: =SUM(Q37:Q40) | R41: =SUM(F41:Q41) -> 0 | S41: =SUM(R41/12) -> 0 | U41: =SUM(U37:U40) | V41: =SUM(V37:V40) | W41: =SUM(W37:W40) -> 0 | X41: =SUM(X37:X40) -> 0 | Y41: =SUM(Y37:Y40) -> 0 | Z41: =SUM(Z37:Z40) -> 0 | AA41: =SUM(AA37:AA40) -> 0 | AB41: =SUM(AB37:AB40) -> 0 | ... AF41: =SUM(AF37:AF40) -> 0 | AG41: =SUM(U41:AF41) -> 0 | AH41: =SUM(AG41/12) -> 0
A43: INNE KOSZTY
B44: Wynajem lokali | R44: =SUM(F44:Q44) | S44: =SUM(R44/12) | AG44: =SUM(U44:AF44) | AH44: =SUM(AG44/12)
B45: Inny najem (np. leasing) | R45: =SUM(F45:Q45) | S45: =SUM(R45/12) -> 0 | AG45: =SUM(U45:AF45) | AH45: =SUM(AG45/12) -> 0
B46: Koszty podróży | R46: =SUM(F46:Q46) | S46: =SUM(R46/12) -> 0 | AG46: =SUM(U46:AF46) | AH46: =SUM(AG46/12) -> 0
B47: Usługi biurowe | R47: =SUM(F47:Q47) | S47: =SUM(R47/12) -> 0 | AG47: =SUM(U47:AF47) | AH47: =SUM(AG47/12) -> 0
B48: Koszty reprezentacyjne | R48: =SUM(F48:Q48) | S48: =SUM(R48/12) -> 0 | AG48: =SUM(U48:AF48) | AH48: =SUM(AG48/12) -> 0
B49: Koszty reklamy, imprezy targowe | R49: =SUM(F49:Q49) | S49: =SUM(R49/12) -> 0 | AG49: =SUM(U49:AF49) | AH49: =SUM(AG49/12) -> 0
B50: Telefon, faks, telefonia komórkowa | R50: =SUM(F50:Q50) -> 0 | S50: =SUM(R50/12) -> 0 | AG50: =SUM(U50:AF50) -> 0 | AH50: =SUM(AG50/12) -> 0
B51: Internet, telekomunikacja | R51: =SUM(F51:Q51) -> 0 | S51: =SUM(R51/12) -> 0 | AG51: =SUM(U51:AF51) -> 0 | AH51: =SUM(AG51/12) -> 0
B52: Księgowość i audyt | R52: =SUM(F52:Q52) -> 0 | S52: =SUM(R52/12) -> 0 | AG52: =SUM(U52:AF52) -> 0 | AH52: =SUM(AG52/12) -> 0
B53: Polisy ubezpieczeniowe | R53: =SUM(F53:Q53) -> 0 | S53: =SUM(R53/12) -> 0 | AG53: =SUM(U53:AF53) -> 0 | AH53: =SUM(AG53/12) -> 0
B54: Fracht | R54: =SUM(F54:Q54) -> 0 | S54: =SUM(R54/12) -> 0 | AG54: =SUM(U54:AF54) -> 0 | AH54: =SUM(AG54/12) -> 0
B55: Inne koszty, w tym VAT | R55: =SUM(F55:Q55) | S55: =SUM(R55/12) | AG55: =SUM(U55:AF55) | AH55: =SUM(AG55/12)
B56: =CONCATENATE("VAT ",D56*100,"% costs (add % to D56)") | D56: 0.1 | R56: =SUM(F56:Q56) | S56: =SUM(R56/12) -> 0 | AG56: =SUM(U56:AF56) | AH56: =SUM(AG56/12)
B57: Inne koszty bez VAT | R57: =SUM(F57:Q57) | S57: =SUM(R57/12) -> 0 | AG57: =SUM(U57:AF57) | AH57: =SUM(AG57/12)
B58: Koszty odsetek | R58: =SUM(F58:Q58) | S58: =SUM(R58/12) -> 0 | AG58: =SUM(U58:AF58) | AH58: =SUM(AG58/12)
B59: Inne koszty finansowania | R59: =SUM(F59:Q59) | S59: =SUM(R59/12) -> 0 | AG59: =SUM(U59:AF59) | AH59: =SUM(AG59/12)
B60: Inne koszty, łącznie | D60: łącznie | F60: =SUM(F44:F59) | G60: =SUM(G44:G59) | H60: =SUM(H44:H59) -> 0 | I60: =SUM(I44:I59) -> 0 | J60: =SUM(J44:J59) -> 0 | K60: =SUM(K44:K59) -> 0 | L60: =SUM(L44:L59) -> 0 | M60: =SUM(M44:M59) -> 0 | ... Q60: =SUM(Q44:Q59) -> 0 | R60: =SUM(R44:R54) | S60: =SUM(R60/12) -> 0 | U60: =SUM(U44:U59) | V60: =SUM(V44:V59) | W60: =SUM(W44:W59) -> 0 | X60: =SUM(X44:X59) -> 0 | Y60: =SUM(Y44:Y59) -> 0 | Z60: =SUM(Z44:Z59) -> 0 | AA60: =SUM(AA44:AA59) -> 0 | AB60: =SUM(AB44:AB59) -> 0 | ... AF60: =SUM(AF44:AF59) -> 0 | AG60: =SUM(AG44:AG54) | AH60: =SUM(AG60/12) -> 0
B62: Inwestycje
C63: Urządzenia i sprzęt | R63: =SUM(F63:Q63) | S63: =SUM(R63/12) | AG63: =SUM(U63:AF63) | AH63: =SUM(AG63/12)
C64: Meble biurowe | R64: =SUM(F64:Q64) | S64: =SUM(R64/12) | AG64: =SUM(U64:AF64) | AH64: =SUM(AG64/12)
C65: Budynki | R65: =SUM(F65:Q65) | S65: =SUM(R65/12) | AG65: =SUM(U65:AF65) | AH65: =SUM(AG65/12)
C66: Łącznie | D66: łącznie | F66: =SUM(F63:F65) | G66: =SUM(G63:G65) -> 0 | H66: =SUM(H63:H65) -> 0 | I66: =SUM(I63:I65) -> 0 | J66: =SUM(J63:J65) -> 0 | K66: =SUM(K63:K65) -> 0 | L66: =SUM(L63:L65) -> 0 | M66: =SUM(M63:M65) -> 0 | ... R66: =SUM(R63:R65) -> 0 | S66: =R66/12 | U66: =SUM(U63:U65) | V66: =SUM(V63:V65) -> 0 | W66: =SUM(W63:W65) -> 0 | X66: =SUM(X63:X65) -> 0 | Y66: =SUM(Y63:Y65) -> 0 | Z66: =SUM(Z63:Z65) -> 0 | AA66: =SUM(AA63:AA65) -> 0 | AB66: =SUM(AB63:AB65) -> 0 | ... AG66: =SUM(AG63:AG65) | AH66: =AG66/12
A68: Amortyzacja pożyczek | R68: =SUM(F68:Q68) | S68: =SUM(R68/12) | AG68: =SUM(U68:AF68) | AH68: =SUM(AG68/12)
A69: VAT (wprowadź w wierszu 131) | F69: =IF(F131<0,0,F131) | G69: =IF(G131<0,0,G131) | H69: =IF(H131<0,0,H131) | I69: =IF(I131<0,0,I131) | J69: =IF(J131<0,0,J131) -> 0 | K69: =IF(K131<0,0,K131) -> 0 | L69: =IF(L131<0,0,L131) -> 0 | M69: =IF(M131<0,0,M131) -> 0 | ... Q69: =IF(Q131<0,0,Q131) -> 0 | R69: =SUM(F69:Q69) | S69: =SUM(R69/12) -> 0 | U69: =IF(U131<0,0,U131) | V69: =IF(V131<0,0,V131) | W69: =IF(W131<0,0,W131) | X69: =IF(X131<0,0,X131) | Y69: =IF(Y131<0,0,Y131) -> 0 | Z69: =IF(Z131<0,0,Z131) -> 0 | AA69: =IF(AA131<0,0,AA131) -> 0 | AB69: =IF(AB131<0,0,AB131) -> 0 | ... AF69: =IF(AF131<0,0,AF131) -> 0 | AG69: =SUM(U69:AF69) | AH69: =SUM(AG69/12) -> 0
A70: Zwrot VAT | F70: =IF(F131>0,0,F131*-1) | G70: =IF(G131>0,0,G131*-1) | H70: =IF(H131>0,0,H131*-1) | I70: =IF(I131>0,0,I131*-1) | J70: =IF(J131>0,0,J131*-1) -> 0 | K70: =IF(K131>0,0,K131*-1) -> 0 | L70: =IF(L131>0,0,L131*-1) -> 0 | M70: =IF(M131>0,0,M131*-1) -> 0 | ... Q70: =IF(Q131>0,0,Q131*-1) -> 0 | R70: =SUM(F70:Q70) | S70: =SUM(R70/12) -> 0 | U70: =IF(U131>0,0,U131*-1) | V70: =IF(V131>0,0,V131*-1) | W70: =IF(W131>0,0,W131*-1) | X70: =IF(X131>0,0,X131*-1) | Y70: =IF(Y131>0,0,Y131*-1) -> 0 | Z70: =IF(Z131>0,0,Z131*-1) -> 0 | AA70: =IF(AA131>0,0,AA131*-1) -> 0 | AB70: =IF(AB131>0,0,AB131*-1) -> 0 | ... AF70: =IF(AF131>0,0,AF131*-1) -> 0 | AG70: =SUM(U70:AF70) | AH70: =SUM(AG70/12) -> 0
A71: Inne podatki | R71: =SUM(F71:Q71) | S71: =SUM(R71/12) -> 0 | AG71: =SUM(U71:AF71) | AH71: =SUM(AG71/12) -> 0
B73: PRZYCHODY ŁĄCZNIE | F73: =SUM(F8,F32,F70) | G73: =SUM(G8,G32,G70) | H73: =SUM(H8,H32,H70) -> 0 | I73: =SUM(I8,I32,I70) -> 0 | J73: =SUM(J8,J32,J70) -> 0 | K73: =SUM(K8,K32,K70) -> 0 | L73: =SUM(L8,L32,L70) -> 0 | M73: =SUM(M8,M32,M70) -> 0 | ... Q73: =SUM(Q8,Q32,Q70) -> 0 | R73: =SUM(F73:Q73) | S73: =SUM(R73/12) -> 0 | U73: =SUM(U8,U32) | V73: =SUM(V8,V32) | W73: =SUM(W8,W32) -> 0 | X73: =SUM(X8,X32) -> 0 | Y73: =SUM(Y8,Y32) -> 0 | Z73: =SUM(Z8,Z32) -> 0 | AA73: =SUM(AA8,AA32) -> 0 | AB73: =SUM(AB8,AB32) -> 0 | ... AF73: =SUM(AF8,AF32) -> 0 | AG73: =SUM(U73:AF73) | AH73: =SUM(AG73/12) -> 0
B74: WYDATKI ŁĄCZNIE | F74: =SUM(F24,F41,F60,F66,F68,F69,F71) | G74: =SUM(G24,G41,G60,G66,G68,G69,G71) | H74: =SUM(H24,H41,H60,H66,H68,H69,H71) -> 0 | I74: =SUM(I24,I41,I60,I66,I68,I69,I71) -> 0 | J74: =SUM(J24,J41,J60,J66,J68,J69,J71) -> 0 | K74: =SUM(K24,K41,K60,K66,K68,K69,K71) -> 0 | L74: =SUM(L24,L41,L60,L66,L68,L69,L71) -> 0 | M74: =SUM(M24,M41,M60,M66,M68,M69,M71) -> 0 | ... Q74: =SUM(Q24,Q41,Q60,Q66,Q68,Q69,Q71) -> 0 | R74: =SUM(F74:Q74) | S74: =SUM(R74/12) -> 0 | U74: =SUM(U24,U41,U60,U66,U68,U69,U71) | V74: =SUM(V24,V41,V60,V66,V68,V69,V71) | W74: =SUM(W24,W41,W60,W66,W68,W69,W71) -> 0 | X74: =SUM(X24,X41,X60,X66,X68,X69,X71) -> 0 | Y74: =SUM(Y24,Y41,Y60,Y66,Y68,Y69,Y71) -> 0 | Z74: =SUM(Z24,Z41,Z60,Z66,Z68,Z69,Z71) -> 0 | AA74: =SUM(AA24,AA41,AA60,AA66,AA68,AA69,AA71) -> 0 | AB74: =SUM(AB24,AB41,AB60,AB66,AB68,AB69,AB71) -> 0 | ... AF74: =SUM(AF24,AF41,AF60,AF66,AF68,AF69,AF71) -> 0 | AG74: =SUM(U74:AF74) | AH74: =SUM(AG74/12) -> 0
B75: Różnica +/- | F75: =SUM(F73-F74) | G75: =SUM(G73-G74) | H75: =SUM(H73-H74) -> 0 | I75: =SUM(I73-I74) -> 0 | J75: =SUM(J73-J74) -> 0 | K75: =SUM(K73-K74) -> 0 | L75: =SUM(L73-L74) -> 0 | M75: =SUM(M73-M74) | ... Q75: =SUM(Q73-Q74) -> 0 | R75: =SUM(F75:Q75) | S75: =SUM(R75/12) -> 0 | U75: =SUM(U73-U74) | V75: =SUM(V73-V74) -> 0 | W75: =SUM(W73-W74) -> 0 | X75: =SUM(X73-X74) -> 0 | Y75: =SUM(Y73-Y74) -> 0 | Z75: =SUM(Z73-Z74) -> 0 | AA75: =SUM(AA73-AA74) -> 0 | AB75: =SUM(AB73-AB74) -> 0 | ... AF75: =SUM(AF73-AF74) -> 0 | AG75: =SUM(U75:AF75) | AH75: =SUM(AG75/12) -> 0
B77: GRANTY ŁĄCZNIE | R77: =SUM(F77:Q77) | S77: =SUM(R77/12) | AG77: =SUM(U77:AF77) | AH77: =SUM(AG77/12)
B78: Różnica +/- | F78: =F75+F77 | G78: =G75+G77 | H78: =H75+H77 -> 0 | I78: =I75+I77 -> 0 | J78: =J75+J77 -> 0 | K78: =K75+K77 -> 0 | L78: =L75+L77 -> 0 | M78: =M75+M77 -> 0 | ... Q78: =Q75+Q77 -> 0 | R78: =SUM(F78:Q78) | S78: =SUM(R78/12) | U78: =U75+U77 | V78: =V75+V77 -> 0 | W78: =W75+W77 -> 0 | X78: =X75+X77 -> 0 | Y78: =Y75+Y77 -> 0 | Z78: =Z75+Z77 -> 0 | AA78: =AA75+AA77 -> 0 | AB78: =AB75+AB77 -> 0 | ... AF78: =AF75+AF77 -> 0 | AG78: =SUM(U78:AF78) | AH78: =SUM(AG78/12)
B80: ZWROT KOSZTÓW POŻYCZEK | R80: =SUM(F80:Q80) | S80: =SUM(R80/12) | AG80: =SUM(U80:AF80) | AH80: =SUM(AG80/12)
B81: Różnica +/- | F81: =F78+F80 | G81: =G78+G80 | H81: =H78+H80 -> 0 | I81: =I78+I80 -> 0 | J81: =J78+J80 -> 0 | K81: =K78+K80 -> 0 | L81: =L78+L80 -> 0 | M81: =M78+M80 -> 0 | ... Q81: =Q78+Q80 -> 0 | R81: =SUM(F81:Q81) | S81: =SUM(R81/12) | U81: =U78+U80 | V81: =V78+V80 -> 0 | W81: =W78+W80 -> 0 | X81: =X78+X80 -> 0 | Y81: =Y78+Y80 -> 0 | Z81: =Z78+Z80 -> 0 | AA81: =AA78+AA80 -> 0 | AB81: =AB78+AB80 -> 0 | ... AF81: =AF78+AF80 -> 0 | AG81: =SUM(U81:AF81) | AH81: =SUM(AG81/12)
B83: NAKŁADY INWESTYCYJNE
C84: Kapitał własny | R84: =SUM(F84:Q84) | S84: =SUM(R84/12) | AG84: =SUM(U84:AF84) | AH84: =SUM(AG84/12)
C85: Kredyty w formie udziału w wartości | R85: =SUM(F85:Q85) | S85: =SUM(R85/12) | AG85: =SUM(U85:AF85) | AH85: =SUM(AG85/12)
B86: Różnica +/- | F86: =F81+F84+F85 | G86: =G81+G84+G85 | H86: =H81+H84+H85 -> 0 | I86: =I81+I84+I85 -> 0 | J86: =J81+J84+J85 -> 0 | K86: =K81+K84+K85 -> 0 | L86: =L81+L84+L85 -> 0 | M86: =M81+M84+M85 -> 0 | ... Q86: =Q81+Q84+Q85 -> 0 | R86: =SUM(F86:Q86) | S86: =SUM(R86/12) | U86: =U81+U84+U85 | V86: =V81+V84+V85 -> 0 | W86: =W81+W84+W85 -> 0 | X86: =X81+X84+X85 -> 0 | Y86: =Y81+Y84+Y85 -> 0 | Z86: =Z81+Z84+Z85 -> 0 | AA86: =AA81+AA84+AA85 -> 0 | AB86: =AB81+AB84+AB85 -> 0 | ... AF86: =AF81+AF84+AF85 -> 0 | AG86: =SUM(U86:AF86) | AH86: =SUM(AG86/12)
B88: Gotówka początkowa, miesięcznie | F88: 0 | G88: =F89 | H88: =G89 | I88: =H89 -> 0 | J88: =I89 -> 0 | K88: =J89 -> 0 | L88: =K89 -> 0 | M88: =L89 -> 0 | N88: =M89 -> 0 | ... Q88: =P89 -> 0 | U88: =Q89 | V88: =U89 | W88: =V89 -> 0 | X88: =W89 -> 0 | Y88: =X89 -> 0 | Z88: =Y89 -> 0 | AA88: =Z89 -> 0 | AB88: =AA89 -> 0 | AC88: =AB89 -> 0 | ... AF88: =AE89 -> 0
B89: Gotówka, koniec miesiąca | F89: =SUM(F88+F73-F74+F77+F80+F84+F85) | G89: =SUM(G88+G73-G74+G77+G80+G84+G85) | H89: =SUM(H88+H73-H74+H77+H80+H84+H85) | I89: =SUM(I88+I73-I74+I77+I80+I84+I85) -> 0 | J89: =SUM(J88+J73-J74+J77+J80+J84+J85) -> 0 | K89: =SUM(K88+K73-K74+K77+K80+K84+K85) -> 0 | L89: =SUM(L88+L73-L74+L77+L80+L84+L85) -> 0 | M89: =SUM(M88+M73-M74+M77+M80+M84+M85) -> 0 | ... Q89: =SUM(Q88+Q73-Q74+Q77+Q80+Q84+Q85) -> 0 | S89: UWAGA! Wiersz na miesiąc | U89: =SUM(U88+U73-U74+U77+U80+U84+U85) | V89: =SUM(V88+V73-V74+V77+V80+V84+V85) -> 0 | W89: =SUM(W88+W73-W74+W77+W80+W84+W85) -> 0 | X89: =SUM(X88+X73-X74+X77+X80+X84+X85) -> 0 | Y89: =SUM(Y88+Y73-Y74+Y77+Y80+Y84+Y85) -> 0 | Z89: =SUM(Z88+Z73-Z74+Z77+Z80+Z84+Z85) -> 0 | AA89: =SUM(AA88+AA73-AA74+AA77+AA80+AA84+AA85) -> 0 | AB89: =SUM(AB88+AB73-AB74+AB77+AB80+AB84+AB85) -> 0 | ... AF89: =SUM(AF88+AF73-AF74+AF77+AF80+AF84+AF85) -> 0 | AH89: UWAGA! Wiersz na miesiąc
S90: dotyczy średniej wartości dla 12 miesięcy | AH90: dotyczy średniej wartości dla 12 miesięcy
F91: miesiąc | G91: miesiąc | H91: miesiąc | I91: miesiąc | J91: miesiąc | K91: miesiąc | L91: miesiąc | M91: miesiąc | N91: miesiąc | O91: miesiąc | P91: miesiąc | Q91: miesiąc | U91: miesiąc | V91: miesiąc | W91: miesiąc | X91: miesiąc | Y91: miesiąc | Z91: miesiąc | AA91: miesiąc | AB91: miesiąc | AC91: miesiąc | AD91: miesiąc | AE91: miesiąc | AF91: miesiąc
B93: Kapitał własny na początek miesiąca | G93: =F95 | H93: =G95 | I93: =H95 -> 0 | J93: =I95 -> 0 | K93: =J95 -> 0 | L93: =K95 -> 0 | M93: =L95 -> 0 | N93: =M95 -> 0 | ... Q93: =P95 -> 0 | U93: =Q95 | V93: =U95 | W93: =V95 -> 0 | X93: =W95 -> 0 | Y93: =X95 -> 0 | Z93: =Y95 -> 0 | AA93: =Z95 -> 0 | AB93: =AA95 -> 0 | AC93: =AB95 -> 0 | ... AF93: =AE95 -> 0
C94: Amortyzacja | R94: =SUM(F94:Q94) | AG94: =SUM(U94:AF94)
B95: Kapitał własny na koniec miesiąca | F95: =F93-F94 | G95: =G93-G94 | H95: =H93-H94 -> 0 | I95: =I93-I94 -> 0 | J95: =J93-J94 -> 0 | K95: =K93-K94 -> 0 | L95: =L93-L94 -> 0 | M95: =M93-M94 -> 0 | ... Q95: =Q93-Q94 -> 0 | U95: =U93-U94 | V95: =V93-V94 -> 0 | W95: =W93-W94 -> 0 | X95: =X93-X94 -> 0 | Y95: =Y93-Y94 -> 0 | Z95: =Z93-Z94 -> 0 | AA95: =AA93-AA94 -> 0 | AB95: =AB93-AB94 -> 0 | ... AF95: =AF93-AF94 -> 0
B97: Wyniki księgowe
B98: CELE
A101: OBLICZENIA NA POTRZEBY WYKRESÓW ------------>
B104: GOTÓWKA
C105: DZIAŁALNOŚĆ
C106: - Gotówka na start | F106: =F88 | G106: =F107 | H106: =G107 | I106: =H107 -> 0 | J106: =I107 -> 0 | K106: =J107 -> 0 | L106: =K107 -> 0 | M106: =L107 -> 0 | N106: =M107 -> 0 | ... Q106: =P107 -> 0 | U106: =U88 | V106: =U107 | W106: =V107 -> 0 | X106: =W107 -> 0 | Y106: =X107 -> 0 | Z106: =Y107 -> 0 | AA106: =Z107 -> 0 | AB106: =AA107 -> 0 | AC106: =AB107 -> 0 | ... AF106: =AE107 -> 0
C107: - Gotówka na koniec | F107: =F106+F75 | G107: =G106+G75 | H107: =H106+H75 -> 0 | I107: =I106+I75 -> 0 | J107: =J106+J75 -> 0 | K107: =K106+K75 -> 0 | L107: =L106+L75 -> 0 | M107: =M106+M75 -> 0 | ... Q107: =Q106+Q75 -> 0 | U107: =U106+U75 | V107: =V106+V75 -> 0 | W107: =W106+W75 -> 0 | X107: =X106+X75 -> 0 | Y107: =Y106+Y75 -> 0 | Z107: =Z106+Z75 -> 0 | AA107: =AA106+AA75 -> 0 | AB107: =AB106+AB75 -> 0 | ... AF107: =AF106+AF75 -> 0
C109: Granty
C110: - Gotówka na start | F110: =F88 | G110: =F111 | H110: =G111 | I110: =H111 -> 0 | J110: =I111 -> 0 | K110: =J111 -> 0 | L110: =K111 -> 0 | M110: =L111 -> 0 | N110: =M111 -> 0 | ... Q110: =P111 -> 0 | U110: =U88 | V110: =U111 | W110: =V111 -> 0 | X110: =W111 -> 0 | Y110: =X111 -> 0 | Z110: =Y111 -> 0 | AA110: =Z111 -> 0 | AB110: =AA111 -> 0 | AC110: =AB111 -> 0 | ... AF110: =AE111 -> 0
C111: - Gotówka na koniec | F111: =F110+F75+F77 | G111: =G110+G75+G77 | H111: =H110+H75+H77 | I111: =I110+I75+I77 -> 0 | J111: =J110+J75+J77 -> 0 | K111: =K110+K75+K77 -> 0 | L111: =L110+L75+L77 -> 0 | M111: =M110+M75+M77 -> 0 | ... Q111: =Q110+Q75+Q77 -> 0 | U111: =U110+U75+U77 | V111: =V110+V75+V77 -> 0 | W111: =W110+W75+W77 -> 0 | X111: =X110+X75+X77 -> 0 | Y111: =Y110+Y75+Y77 -> 0 | Z111: =Z110+Z75+Z77 -> 0 | AA111: =AA110+AA75+AA77 -> 0 | AB111: =AB110+AB75+AB77 -> 0 | ... AF111: =AF110+AF75+AF77 -> 0
C113: Pożyczki
C114: - Gotówka na start | F114: =F88 | G114: =F115 | H114: =G115 | I114: =H115 -> 0 | J114: =I115 -> 0 | K114: =J115 -> 0 | L114: =K115 -> 0 | M114: =L115 -> 0 | N114: =M115 -> 0 | ... Q114: =P115 -> 0 | U114: =U88 | V114: =U115 | W114: =V115 -> 0 | X114: =W115 -> 0 | Y114: =X115 -> 0 | Z114: =Y115 -> 0 | AA114: =Z115 -> 0 | AB114: =AA115 -> 0 | AC114: =AB115 -> 0 | ... AF114: =AE115 -> 0
C115: - Gotówka na koniec | F115: =F114+F75+F77+F80 | G115: =G114+G75+G77+G80 -> 0 | H115: =H114+H75+H77+H80 -> 0 | I115: =I114+I75+I77+I80 -> 0 | J115: =J114+J75+J77+J80 -> 0 | K115: =K114+K75+K77+K80 -> 0 | L115: =L114+L75+L77+L80 -> 0 | M115: =M114+M75+M77+M80 -> 0 | ... Q115: =Q114+Q75+Q77+Q80 -> 0 | U115: =U114+U75+U77+U80 | V115: =V114+V75+V77+V80 -> 0 | W115: =W114+W75+W77+W80 -> 0 | X115: =X114+X75+X77+X80 -> 0 | Y115: =Y114+Y75+Y77+Y80 -> 0 | Z115: =Z114+Z75+Z77+Z80 -> 0 | AA115: =AA114+AA75+AA77+AA80 -> 0 | AB115: =AB114+AB75+AB77+AB80 -> 0 | ... AF115: =AF114+AF75+AF77+AF80 -> 0
B117: Wyniki obliczeń przepływów pieniężnych
C118: DZIAŁALNOŚĆ | F118: =F75 | G118: =F118+G75 | H118: =G118+H75 -> 0 | I118: =H118+I75 -> 0 | J118: =I118+J75 -> 0 | K118: =J118+K75 -> 0 | L118: =K118+L75 -> 0 | M118: =L118+M75 -> 0 | N118: =M118+N75 -> 0 | ... Q118: =P118+Q75 -> 0 | U118: =U75 | V118: =U118+V75 | W118: =V118+W75 -> 0 | X118: =W118+X75 -> 0 | Y118: =X118+Y75 -> 0 | Z118: =Y118+Z75 -> 0 | AA118: =Z118+AA75 -> 0 | AB118: =AA118+AB75 -> 0 | AC118: =AB118+AC75 -> 0 | ... AF118: =AE118+AF75 -> 0
C119: GRANTY | F119: =F78 | G119: =F119+G78 | H119: =G119+H78 -> 0 | I119: =H119+I78 -> 0 | J119: =I119+J78 -> 0 | K119: =J119+K78 -> 0 | L119: =K119+L78 -> 0 | M119: =L119+M78 -> 0 | N119: =M119+N78 -> 0 | ... Q119: =P119+Q78 -> 0 | U119: =U78 | V119: =U119+V78 | W119: =V119+W78 -> 0 | X119: =W119+X78 -> 0 | Y119: =X119+Y78 -> 0 | Z119: =Y119+Z78 -> 0 | AA119: =Z119+AA78 -> 0 | AB119: =AA119+AB78 -> 0 | AC119: =AB119+AC78 -> 0 | ... AF119: =AE119+AF78 -> 0
C120: POŻYCZKI | F120: =F81 | G120: =F120+G81 | H120: =G120+H81 -> 0 | I120: =H120+I81 -> 0 | J120: =I120+J81 -> 0 | K120: =J120+K81 -> 0 | L120: =K120+L81 -> 0 | M120: =L120+M81 -> 0 | N120: =M120+N81 -> 0 | ... Q120: =P120+Q81 -> 0 | U120: =U81 | V120: =U120+V81 | W120: =V120+W81 -> 0 | X120: =W120+X81 -> 0 | Y120: =X120+Y81 -> 0 | Z120: =Y120+Z81 -> 0 | AA120: =Z120+AA81 -> 0 | AB120: =AA120+AB81 -> 0 | AC120: =AB120+AC81 -> 0 | ... AF120: =AE120+AF81 -> 0
C121: KAPITAŁ | F121: =F86 | G121: =F121+G86 | H121: =G121+H86 -> 0 | I121: =H121+I86 -> 0 | J121: =I121+J86 -> 0 | K121: =J121+K86 -> 0 | L121: =K121+L86 -> 0 | M121: =L121+M86 -> 0 | N121: =M121+N86 -> 0 | ... Q121: =P121+Q86 -> 0 | U121: =U86 | V121: =U121+V86 | W121: =V121+W86 -> 0 | X121: =W121+X86 -> 0 | Y121: =X121+Y86 -> 0 | Z121: =Y121+Z86 -> 0 | AA121: =Z121+AA86 -> 0 | AB121: =AA121+AB86 -> 0 | AC121: =AB121+AC86 -> 0 | ... AF121: =AE121+AF86 -> 0
B124: DOSTATECZNOŚĆ GOTÓWKI | F124: =IF(F74=0,0,F89/(3*F74)) | G124: =IF(F74+G74*2=0,0,G89/(F74+G74*2)) | H124: =IF(SUM(F74:H74)=0,0,H89/(SUM(F74:H74))) | I124: =IF(SUM(G74:I74)=0,0,I89/(SUM(G74:I74))) | J124: =IF(SUM(H74:J74)=0,0,J89/(SUM(H74:J74))) -> 0 | K124: =IF(SUM(I74:K74)=0,0,K89/(SUM(I74:K74))) -> 0 | L124: =IF(SUM(J74:L74)=0,0,L89/(SUM(J74:L74))) -> 0 | M124: =IF(SUM(K74:M74)=0,0,M89/(SUM(K74:M74))) -> 0 | N124: =IF(SUM(L74:N74)=0,0,N89/(SUM(L74:N74))) -> 0 | O124: =IF(SUM(M74:O74)=0,0,O89/(SUM(M74:O74))) -> 0 | ... Q124: =IF(SUM(O74:Q74)=0,0,Q89/(SUM(O74:Q74))) -> 0 | U124: =IF(SUM(O74:Q74)=0,0,U89/(SUM(O74:Q74))) | V124: =IF(SUM(P74:R74)=0,0,V89/(SUM(P74:R74))) | W124: =IF(SUM(Q74:S74)=0,0,W89/(SUM(Q74:S74))) -> 0 | X124: =IF(SUM(R74:T74)=0,0,X89/(SUM(R74:T74))) -> 0 | Y124: =IF(SUM(S74:U74)=0,0,Y89/(SUM(S74:U74))) -> 0 | Z124: =IF(SUM(T74:V74)=0,0,Z89/(SUM(T74:V74))) -> 0 | AA124: =IF(SUM(U74:W74)=0,0,AA89/(SUM(U74:W74))) -> 0 | AB124: =IF(SUM(V74:X74)=0,0,AB89/(SUM(V74:X74))) -> 0 | ... AF124: =IF(SUM(Z74:AB74)=0,0,AF89/(SUM(Z74:AB74))) -> 0
...

Sheet Wykresy, rok pierwszy
A1: Wykresy obliczeń przepływów pieniężnych, rok 1 | F1: Instrukcje wykresów
A3: Wyniki obliczeń przepływów pieniężnych (łącznie) | J3: Gotówka (łącznie)
A25: Wyniki księgowe (/Miesiąc) | J25: Kapitał własny
A47: Cele vs. faktyczna dostępność gotówki | K47: Zasób gotówki wystarczający do pokrycia bieżących zobowiązań
K49: Miesiąc | L49: Indeks | N49: Indeks wartość | O49: Opis | P49: Kolor
K50: 1 | L50: ='Gotówka'!F124 | N50: Ponad 2,0 | O50: Ilość gotówki wystarczająca na ponad 6 miesięcy | P50: Zielony
K51: 2 | L51: ='Gotówka'!G124 | N51: 1,0‒2,0 | O51: Ilość gotówki wystarczająca na 3-6 miesięcy | P51: Zielony
K52: 3 | L52: ='Gotówka'!H124 | N52: 0,3‒1,0 | O52: Ilość gotówki wystarczająca na 1-3 miesięcy | P52: Żółty
K53: 4 | L53: ='Gotówka'!I124 | N53: Poniżej 0,3 | O53: Ilość gotówki wystarczająca na mniej niż miesiąc | P53: Czerwony
K54: 5 | L54: ='Gotówka'!J124
K55: 6 | L55: ='Gotówka'!K124 | N55: Metoda obliczeń
K56: 7 | L56: ='Gotówka'!L124 | N56: Gotówka / suma kosztów za upływający kwartał
K57: 8 | L57: ='Gotówka'!M124
K58: 9 | L58: ='Gotówka'!N124
K59: 10 | L59: ='Gotówka'!O124
K60: 11 | L60: ='Gotówka'!P124
K61: 12 | L61: ='Gotówka'!Q124

Sheet Wykresy, rok drugi
A1: Wykresy obliczeń przepływów pieniężnych, rok drugi | F1: Instrukcje wykresów
A3: Wyniki obliczeń przepływów pieniężnych (łącznie) | J3: Gotówka (łącznie)
A25: Wyniki księgowe (/Miesiąc) | J25: Kapitał własny
A47: Cele vs. faktyczna dostępność gotówki | K47: Zasób gotówki wystarczający do pokrycia bieżących zobowiązań
K49: Miesiąc | L49: Indeks | N49: Indeks wartość | O49: Opis | P49: Kolor
K50: 1 | L50: ='Gotówka'!U124 | N50: Ponad 2,0 | O50: Ilość gotówki wystarczająca na ponad 6 miesięcy | P50: Zielony
K51: 2 | L51: ='Gotówka'!V124 | N51: 1,0‒2,0 | O51: Ilość gotówki wystarczająca na 3-6 miesięcy | P51: Zielony
K52: 3 | L52: ='Gotówka'!W124 | N52: 0,3‒1,0 | O52: Ilość gotówki wystarczająca na 1-3 miesięcy | P52: Żółty
K53: 4 | L53: ='Gotówka'!X124 | N53: Poniżej 0,3 | O53: Ilość gotówki wystarczająca na mniej niż miesiąc | P53: Czerwony
K54: 5 | L54: ='Gotówka'!Y124
K55: 6 | L55: ='Gotówka'!Z124 | N55: Metoda obliczeń
K56: 7 | L56: ='Gotówka'!AA124 | N56: Gotówka / suma kosztów za upływający kwartał
K57: 8 | L57: ='Gotówka'!AB124
K58: 9 | L58: ='Gotówka'!AC124
K59: 10 | L59: ='Gotówka'!AD124
K60: 11 | L60: ='Gotówka'!AE124
K61: 12 | L61: ='Gotówka'!AF124

Sheet Instrukcje
A2: Instrukcje obliczania przepływów pieniężnych | D2: Wartości obliczeń przepływów pieniężnych właściwe dla danej spółki
D4: Formuły obliczeń przepływów pieniężnych wykorzystują wartości odnoszące się tu do konkretnej spółki
D7: Podatek potrącany u źródła - 27% + ubezpiecznie społeczne 1.08% | E7: =0.27+0.0108
D8: Sprzedaż - VAT % | E8: 0.24
D9: Zakupy - VAT % | E9: 0.24
D11: Wartości VAT należy zmodyfikować w zależności od polityki danego państwa Program dokonuje obliczeń automatycznie
A16: Instrukcje wprowadzania danych
A18: Pozycja obliczeniowa | B18: Instrukcje
A19: Wynagrodzeia (brutto) | B19: Wynagrodzenia - bez kosztów pośrednich i kosztów pracodawcy Świadczenia za płatny urlop i premie, wprowadzane jako wynagrodzenia za Lipiec Obliczenie ekwiwalentów urlopowych: (miesięczne wynagrodzenia/25) x dni/miesiąc urlopu x 12 miesięcy Obliczanie premii urlopowe: 50% x ekwiwalent urlopowy
A20: Pośrednie koszty pracownika | B20: Składka ubezpieczeniowa emerytalna dla pracowników i przedsiębiorców: koszty wprowadza się jako pośrednie koszty pracownika. Formuły pozwalają na obliczenie wszystkich pośrednich kosztów pracownika, przy założeniu procentowego udziału składki ubezpieczeniowej TyEL w wysokości 24,4%. [UWAGA tłum. w tekście źródłowym podane są stawki procentowe dla realiów fińskich, tekst polski należy uzgodnić z polską rzeczywistością i użyć polskiej stawki procentowej]. Zauważmy, że płatności YEL wykonywane są zgodnie z ustaleniami. W momencie gdy znane są faktyczne koszty YEL/TyEL na miesiąc (tak jak oblicza je instytucja ubezpieczeń emerytalnych) formuły podmieniamy na faktyczne koszty pośrednie. Jeżeli nowi pracownicy zatrudniani są w danym roku fiskalnym, koszty pośrednie należy poprawić tak, by korespondowały z wynagrodzeniami
A21: Podatek potrącony u źródła, średnio 30% | B21: Jeśli zajdzie taka konieczność, stawka procentowa podaktku potrąconego u źródła może zostać zmieniona w komórce Szczegółowy podatek potrącony u źródłą %, w zakładce instrukcje.
A22: Płatność pracodawcy (10 dzień) | B22: Podatek potrącany u źródła - 27% + ubezpiecznie społeczne 1.08% Formuła obliczenia może zostać zastąpiona faktycznymi płatnościami pracodawcy.
A23: Dobrowolne koszty personelu
A24: Najem biura | B24: Najem biura i dowolne negocjowane koszty najmu pomieszczeń i inne koszty najmu infrastruktury
A25: Inny najem (np. leasing) | B25: Np. płatność za leasing sprzętu komputerowego
A26: Usługi biurowe | B26: Np. obsługa lobby, sprzątanie, etc.
A27: Koszty reprezentacyjne
A28: Koszty reklamy, imprezy targowe
A29: Telefon, faks, telefonia komórkowa
A30: Internet, telekomunikacja | B30: Np. koszt połączenia internetowego
A31: Księgowość i audyt
A32: Polisy ubezpieczeniowe | B32: Polisy ubezpieczeniowe majątku firmy, na wypadek np. pożaru, kradzieży, ubezpieczenie odpowiedzialności administracyjnej, etc. Nie wprowadzamy tu kosztów obowiązkowych ubezpieczeń związanych z personelem. Te wprowadzamy w zakładce Pośrednie koszty zatrudnienia
A33: Fracht
A34: Materiały i dostawy
A35: Usługi zewnętrzne
A36: Inne koszty, z wyłączeniem VAT | B36: Np. handel zagraniczny
A37: Inwestycje
A38: VAT | B38: VAT jest płatny 15 dnia miesiąca Szacunkową wartość VAT można znaleźć na końcu tabeli przepływów pieniężnych Płacony VAT należy wprowadzić razem z szacunkiem w wierszu 131, skąd jest pobierany do wiersza 69, w rubryce koszty
A39: Inne podatki | B39: Podatek potrącony u źródła płatny jest 23 dnia miesiąca
A40: Część dotycząca grantów Tekes (Finnish Funding Agency for Innovation) | B40: Brak pożyczek, lub kredyt podporządkowany Te wprowadzane są w rubryce ZWROT KOSZTÓW POŻYCZEK
A41: Kapitał zakładowy
A42: Gotówka początkowa, miesięcznie | B42: Sytuacja gotówka 1. dnia miesiąca Sytuacja gotówkowa wprowadzana jest dla pierwszego miesiąca, którego dotyczą obliczenia. Od tego momentu, sytuacja gotówkowa na koniec miesiąca jest obliczana na podstawie przychodów i kosztów. Sytuacja gotówkowa na początku miesiąca jest automatycznie ustalana, na bazie miesiąca poprzedniego.
A43: Gotówka, koniec miesiąca | B43: Sytuacja gotówkowa ostatniego dnia miesiąca Obliczana automatycznie na podstawie przychodów i kosztów dla danego miesiąca
A44: Wyniki księgowe | B44: Tu wprowadzamy wyniki miesięczne, danych dostarcza księgowość. Uwaga. Wyniki obliczeń przepływów pieniężnyc każdorazowo różnią się i mogą znacząco różnić się od wyników księgowych. Wyniki w zakresie przepływów pieniężnych obejmują inwestycje, jednak nie amortyzację, przychód i koszty - w oparciu o ruchy wartości waluty, a nie na bazie rozliczeń międzyokresowych, i tak dalej.
A45: Cel | B45: Oczekiwana sytuacja gotówkowa ostatniego dnia miesiąca
A46: Gotówka | B46: Pozycja Gotówka odnosi się do sytuacji gotówkowej z przychodami z działalności, natomiast obliczenia dotyczące gotówki biorą pod uwagę także granty, pożyczki i inwestycje. Sytuacja gotówkowa, zgodnie z ww. pozycją, jest również opisana w formie graficznej, na wykresie „gotówka”, w zakładce Wykresy.
A47: DZIAŁALNOŚĆ | B47: Sytuacja gotówkowa w odniesieniu do przychodów z działalności
A48: Granty | B48: Sytuacja gotówkowa w odniesieniu do przychodów z działalności i grantów
A49: POŻYCZKI | B49: Sytuacja gotówkowa w odniesieniu do przychodów z działalności, grantów i pożyczek
A50: Wyniki obliczeń przepływów pieniężnych | B50: Wyniki obliczeń przepływów pieniężnych gdzie przychody/koszty działalności, wraz z wynikami obliczeń, biorącymi pod uwagę także granty, pożyczki, i nakłady inwestycyjne. Uwaga. Wyniki obliczeń przepływów pieniężnych mogą znacząco różnić się od wyników księgowych. Wyniki w zakresie przepływów pieniężnych obejmują inwestycje, jednak nie amortyzację, przychód i koszty - w oparciu o ruchy wartości waluty, a nie na bazie rozliczeń międzyokresowych, i tak dalej.
A51: Zasób gotówki wystarczający do pokrycia bieżących zobowiązań | B51: Zasób gotówki wystarczający do pokrycia bieżących zobowiązań, wraz z kosztem za ostatnie 3 miesiące. Obliczenia: gotówka na koniec miesiąca / koszty ostatnich 3 miesięcy Powyżej 2,0: Ilość gotówki wystarczająca na ponad 6 miesięcy 1,0‒2,0: Ilość gotówki wystarczająca na 3-6 miesięcy 0,3‒1,0: Ilość gotówki wystarczająca na 1-3 miesięcy Poniżej 0,3: Ilość gotówki wystarczająca na mniej niż miesiąc
A52: OBLICZENIA VAT | B52: Pozycja VAT to pomocniczy zestaw obliczeń, służący do oszacowania płatnego podatku VAT. Pozycja obliczeniowa „Bilans VAT przed płatnością” musi być wprowadzona jako płatny podatek VAT w wierszu 69. Więcej instrukcji na ten temat dostarcza Administracja Podatkowa w Finlandii (strona internetowa w języku fińskim) [DO LOKALIZACJI]: Aloittavan yrittäjän kysymyksiä arvonlisäverosta https://www.vero.fi/fi-FI/Syventavat_veroohjeet/Arvonlisaverotus/Aloittava_yritys/Aloittavan_yrittajan_kysymyksia_arvonlis(41964)
A53: Podatek VAT od sprzedaży | B53: VAT zawary w sprzedaży za dany miesiąc
... A57: VAT opłacony | B57: Płatny VAT zostanie przeniesiony jako koszt, do wiersza 69. VAT wprowadzany jest jako wartość dodatnia (jeśli płatny) lub ujemna (jeśli zwracany)
A59: Wykresy obliczeń przepływów pieniężnych
A61: Wykres | B61: Instrukcje
A62: Wyniki obliczeń przepływów pieniężnych (łącznie) | B62: Wykres Wyniki obliczeń przepływów pieniężnych ilustruje opracowanie wyniku obliczeń przepływów pieniężnych przez 12 miesięcy. Wynik dzielony jest na sam wynik działalności, a także wynik, w którym zawierają się także pożyczki, granty, i nakłady inwestycyjne. Informacje dla wykresu są pozyskiwane na bazie pozycji Rezultat obliczeń przepływów pieniężnych. Uwaga. Wyniki obliczeń przepływów pieniężnych mogą znacząco różnić się od wyników księgowych. Wyniki w zakresie przepływów pieniężnych obejmują inwestycje, jednak nie amortyzację, przychód i koszty - w oparciu o ruchy wartości waluty, a nie na bazie rozliczeń międzyokresowych, i tak dalej.
A63: Gotówka | B63: Wykres Gotówka ilustruje sytuację gotówkową na przestrzeni 12 miesięcy Sytuacja gotówkowa przedstawiana jest na bazie czystych przychodów z działalności, wraz z grantami, pożyczkami, i inwestycjami. Informacje dla wykresu są pobierane z pozycji „gotówka”, na koniec obliczeń.
A64: Wyniki księgowe | B64: Wykres ilustruje wyniki księgowania, miesiąc po miesiącu. Informacja dla wykresu jest pobierana z pozycji Wyniki księgowe
A65: Kapitał własny | B65: Wykres ilustruje jakim kapitałem dysponuje spółka, każdego miesiąca. Informascja na wykresie jest pobierana z pozycji Kapitał własny na koniec miesiąca
A66: Cele vs. faktyczna dostępność gotówki | B66: Wykres przedstawia porównanie między celami gotówkowymi, a faktyczną dostępnością
A67: Zasób gotówki wystarczający do pokrycia bieżących zobowiązań | B67: Wykres ilustruje i zestawia zdolność spółki do pokrycia bieżących zobowiązań gotóką, z kosztami ostatnich 3 miesięcy. Powyżej 2,0: Ilość gotówki wystarczająca na ponad 6 miesięcy 1,0‒2,0: Ilość gotówki wystarczająca na 3-6 miesięcy 0,3‒1,0: Ilość gotówki wystarczająca na 1-3 miesięcy Poniżej 0,3: Ilość gotówki wystarczająca na mniej niż miesiąc Obliczenia: gotówka na koniec miesiąca / koszty ostatnich 3 miesięcy
