Workbook
Name _1_Liikevaihto: 'Instrukcje'!#REF!
Name _10_Muuttuvien_palkkojen_henkilöstösivukulut: 'Instrukcje'!#REF!
Name _12_Kiinteät_palkat_ja_palkkiot: 'Instrukcje'!#REF!
Name _122_Aineet_ja_tarvikkeet: 'Instrukcje'!#REF!
Name _14_Kiinteät_henkilösivukulut: 'Instrukcje'!#REF!
Name _15.05_Yrityskehitys__laki__teknologia_ja_tuotekehityspalvelut: 'Instrukcje'!#REF!
Name _311_Opo_n_maksullinen_korotus_tilikauden_aikana: 'Instrukcje'!#REF!
Name _37.02_TEKES_avustus: 'Instrukcje'!#REF!
Name _4_Liiketoiminnan_muut_tuotot: 'Instrukcje'!#REF!
Name _5_Ostot_tilikauden_aikana_A__Ainekäyttö_S: 'Instrukcje'!#REF!
Name _7_Ulkopuoliset_palvelut: 'Instrukcje'!#REF!
Name _8_Muuttuvat_palkat_ja_palkkiot: 'Instrukcje'!#REF!
Name Alv_laskelma: 'Instrukcje'!$B$52
Name Alv_saldo_ennen_maksuja: 'Instrukcje'!$B$56
Name Arvonlisävero: 'Instrukcje'!$B$38
Name Avustukset: 'Instrukcje'!$B$48
Name Burn_rate: 'Instrukcje'!#REF!
Name Edustuskulut: 'Instrukcje'!$B$27
Name Ennakonpidätykset__keskim.35: 'Instrukcje'!$B$21
Name Erotus_per_kk: 'Instrukcje'!#REF!
Name Erotus_per_kvartaali: 'Instrukcje'!#REF!
Name Henkilösivukulut: 'Instrukcje'!$B$20
Name Internet__tietoliikenne: 'Instrukcje'!$B$30
Name Investoinnit: 'Instrukcje'!$B$37
Name Kassa: 'Instrukcje'!$B$46
Name Kassan_riittävyys: 'Instrukcje'!$B$51
Name Kassavirtalaskelman_kuvaajat: 'Instrukcje'!$A$59
Name Kassavirtalaskelman_ohjeet: 'Instrukcje'!$A$2
Name Kirjanpidon_tulos: 'Instrukcje'!$B$44
Name Kirjanpito_ja_tilintarkastus: 'Instrukcje'!$B$31
Name KK_n_alkukassa: 'Instrukcje'!$B$42
Name KK_n_loppukassa: 'Instrukcje'!$B$43
Name Kumulatiivinen_tulos: 'Instrukcje'!$B$50
Name Kuukauden_Alv: 'Instrukcje'!$B$55
Name Lainat: 'Instrukcje'!$B$49
Name Lankapuhelin__faksi__gsm: 'Instrukcje'!$B$29
Name Laskelman_kohta: 'Instrukcje'!$B$19:$B$57
Name Liiketoiminnan_muut_tuotot: 'Instrukcje'!#REF!
Name Liiketoiminta: 'Instrukcje'!$B$47
Name Mainoskulut__messut: 'Instrukcje'!$B$28
Name Maksettu_Alv: 'Instrukcje'!$B$57
Name Materiaalit_ja_tarvikkeet: 'Instrukcje'!$B$34
Name Muut_alvittomat_kulut: 'Instrukcje'!$B$36
Name Muut_verot: 'Instrukcje'!$B$39
Name Muut_vuokrat__mm.leasing: 'Instrukcje'!$B$25
Name Myynnin_ALV: 'Instrukcje'!#REF!
Name Myynti: 'Instrukcje'!#REF!
Name Myyynnin_Alv: 'Instrukcje'!$B$53
Name Osakepääoma: 'Instrukcje'!$B$41
Name Oston_Alv: 'Instrukcje'!$B$54
Name Palkat_brutto: 'Instrukcje'!$B$19
Name Rahti: 'Instrukcje'!$B$33
Name Suunniteltu_tulos: 'Instrukcje'!#REF!
Name TA_mallin_ohjeet: 'Instrukcje'!#REF!
Name Tavoitekassa: 'Instrukcje'!$B$45
Name Tekes_avustus_osuus: 'Instrukcje'!$B$40
Name Toimiston_vuokra: 'Instrukcje'!$B$24
Name Toimistopalvelut: 'Instrukcje'!$B$26
Name Toteutunut_tulos: 'Instrukcje'!#REF!
Name Työnantajatilitys__10._pvä: 'Instrukcje'!$B$22

Sheet Strona główna
C7: Planowanie Finansowe Spółki
C9: Nazwa spółki: | F9: Własna Spółka Sp. z o. o.
C10: Data sprawozdania: | F10: xx.xx.xxxx
C12: © Jyväskylä University of Applied Science, Materiał szkoleniowy inkubatora

Sheet Gotówka
A2: NAZWA SPÓŁKI: | F2: Rok 1 | O2: Instrukcje obliczania przepływów pieniężnych | U2: Rok 2
B3: ='Strona główna'!F9 | O3: Wersja 2.3.2017
R5: Rok 1 | AG5: Rok 1
F6: miesiąc | G6: miesiąc | H6: miesiąc | I6: miesiąc | J6: miesiąc | K6: miesiąc | L6: miesiąc | M6: miesiąc | N6: miesiąc | O6: miesiąc | P6: miesiąc | Q6: miesiąc | R6: Suma | S6: Na miesiąc | U6: miesiąc | V6: miesiąc | W6: miesiąc | X6: miesiąc | Y6: miesiąc | Z6: miesiąc | AA6: miesiąc | AB6: miesiąc | AC6: miesiąc | AD6: miesiąc | AE6: miesiąc | AF6: miesiąc | AG6: Suma | AH6: Na miesiąc
F7: 1. Miesiąc | G7: 2. Miesiąc | H7: 3. Miesiąc | I7: 4. Miesiąc | J7: 5. Miesiąc | K7: 6. Miesiąc | L7: 7. Miesiąc | M7: 8. Miesiąc | N7: 9. Miesiąc | O7: 10. Miesiąc | P7: 11. Miesiąc | Q7: 12. Miesiąc | U7: 1. Miesiąc | V7: 2. Miesiąc | W7: 3. Miesiąc | X7: 4. Miesiąc | Y7: 5. Miesiąc | Z7: 6. Miesiąc | AA7: 7. Miesiąc | AB7: 8. Miesiąc | AC7: 9. Miesiąc | AD7: 10. Miesiąc | AE7: 11. Miesiąc | AF7: 12. Miesiąc
A8: Łączne przychody (w tym VAT) | F8: =SUM(F9:F22) | G8: =SUM(G9:G22) | H8: =SUM(H9:H22) -> 0 | I8: =SUM(I9:I22) -> 0 | J8: =SUM(J9:J22) -> 0 | K8: =SUM(K9:K22) -> 0 | L8: =SUM(L9:L22) | M8: =SUM(M9:M22) -> 0 | ... Q8: =SUM(Q9:Q22) -> 0 | R8: =SUM(F8:Q8) | S8: =R8/12 | U8: =SUM(U9:U22) | V8: =SUM(V9:V22) | W8: =SUM(W9:W22) -> 0 | X8: =SUM(X9:X22) -> 0 | Y8: =SUM(Y9:Y22) -> 0 | Z8: =SUM(Z9:Z22) -> 0 | AA8: =SUM(AA9:AA22) -> 0 | AB8: =SUM(AB9:AB22) -> 0 | ... AF8: =SUM(AF9:AF22) -> 0 | AG8: =SUM(U8:AF8) | AH8: =AG8/12
C9: Produkt lub grupa klientów | R9: =SUM(F9:Q9) | S9: =SUM(R9/12) | AG9: =SUM(U9:AF9) -> 0 | AH9: =SUM(AG9/12)
C10: Produkt lub grupa klientów | R10: =SUM(F10:Q10) -> 0 | S10: =SUM(R10/12) -> 0 | AG10: =SUM(U10:AF10) -> 0 | AH10: =SUM(AG10/12) -> 0
C11: Produkt lub grupa klientów | R11: =SUM(F11:Q11) -> 0 | S11: =SUM(R11/12) -> 0 | AG11: =SUM(U11:AF11) -> 0 | AH11: =SUM(AG11/12) -> 0
C12: Produkt lub grupa klientów | R12: =SUM(F12:Q12) -> 0 | S12: =SUM(R12/12) -> 0 | AG12: =SUM(U12:AF12) -> 0 | AH12: =SUM(AG12/12) -> 0
C13: Produkt lub grupa klientów | R13: =SUM(F13:Q13) -> 0 | S13: =SUM(R13/12) -> 0 | AG13: =SUM(U13:AF13) -> 0 | AH13: =SUM(AG13/12) -> 0
C14: Produkt lub grupa klientów | R14: =SUM(F14:Q14) -> 0 | S14: =SUM(R14/12) -> 0 | AG14: =SUM(U14:AF14) -> 0 | AH14: =SUM(AG14/12) -> 0
C15: Produkt lub grupa klientów | R15: =SUM(F15:Q15) | S15: =SUM(R15/12) -> 0 | AG15: =SUM(U15:AF15) -> 0 | AH15: =SUM(AG15/12) -> 0
C16: Produkt lub grupa klientów | R16: =SUM(F16:Q16) | S16: =SUM(R16/12) -> 0 | AG16: =SUM(U16:AF16) -> 0 | AH16: =SUM(AG16/12) -> 0
C17: Produkt lub grupa klientów | R17: =SUM(F17:Q17) | S17: =SUM(R17/12) -> 0 | AG17: =SUM(U17:AF17) -> 0 | AH17: =SUM(AG17/12) -> 0
C18: Produkt lub grupa klientów | R18: =SUM(F18:Q18) | S18: =SUM(R18/12) -> 0 | AG18: =SUM(U18:AF18) -> 0 | AH18: =SUM(AG18/12) -> 0
C19: Produkt lub grupa klientów | R19: =SUM(F19:Q19) -> 0 | S19: =SUM(R19/12) -> 0 | AG19: =SUM(U19:AF19) -> 0 | AH19: =SUM(AG19/12) -> 0
C20: Produkt lub grupa klientów | R20: =SUM(F20:Q20) -> 0 | S20: =SUM(R20/12) -> 0 | AG20: =SUM(U20:AF20) -> 0 | AH20: =SUM(AG20/12) -> 0
C21: =CONCATENATE("VAT ",D21*100,"% sales (add % to D21)") | D21: 0.1 | R21: =SUM(F21:Q21) | S21: =SUM(R21/12) | AG21: =SUM(U21:AF21) | AH21: =SUM(AG21/12)
C22: Sprzedaż ze stawką VAT 0% (Handel zagraniczny, etc.) | R22: =SUM(F22:Q22) | S22: =SUM(R22/12) -> 0 | AG22: =SUM(U22:AF22) -> 0 | AH22: =SUM(AG22/12) -> 0
A24: Zakupy bezpośrednie/Podwykonawstwo | F24: =SUM(F25:F28) | G24: =SUM(G25:G28) | H24: =SUM(H25:H28) -> 0 | I24: =SUM(I25:I28) -> 0 | J24: =SUM(J25:J28) -> 0 | K24: =SUM(K25:K28) -> 0 | L24: =SUM(L25:L28) -> 0 | M24: =SUM(M25:M28) -> 0 | ... Q24: =SUM(Q25:Q28) -> 0 | R24: =SUM(F24:Q24) | S24: =SUM(R24/12) -> 0 | U24: =SUM(U25:U28) | V24: =SUM(V25:V28) -> 0 | W24: =SUM(W25:W28) -> 0 | X24: =SUM(X25:X28) -> 0 | Y24: =SUM(Y25:Y28) -> 0 | Z24: =SUM(Z25:Z28) -> 0 | AA24: =SUM(AA25:AA28) -> 0 | AB24: =SUM(AB25:AB28) -> 0 | ... AF24: =SUM(AF25:AF28) -> 0 | AG24: =SUM(U24:AF24) | AH24: =SUM(AG24/12) -> 0
B25: Zakupy materiałowe | R25: =SUM(F25:Q25) -> 0 | S25: =SUM(R25/12) -> 0 | AG25: =SUM(U25:AF25) -> 0 | AH25: =SUM(AG25/12) -> 0
B26: Zakupy w ramach podwykonawstwa | R26: =SUM(F26:Q26) -> 0 | S26: =SUM(R26/12) -> 0 | AG26: =SUM(U26:AF26) -> 0 | AH26: =SUM(AG26/12) -> 0
B27: Inne koszty bezpośrednie | R27: =SUM(F27:Q27) -> 0 | S27: =SUM(R27/12) -> 0 | AG27: =SUM(U27:AF27) -> 0 | AH27: =SUM(AG27/12) -> 0
B28: =CONCATENATE("VAT ",D28*100,"% costs (add % to D28)") | D28: 0.1 | R28: =SUM(F28:Q28) -> 0 | S28: =SUM(R28/12) | AG28: =SUM(U28:AF28) -> 0
A29: Marża na sprzedaży | F29: =F8-F24 | G29: =G8-G24 | H29: =H8-H24 -> 0 | I29: =I8-I24 -> 0 | J29: =J8-J24 -> 0 | K29: =K8-K24 -> 0 | L29: =L8-L24 -> 0 | M29: =M8-M24 -> 0 | ... Q29: =Q8-Q24 -> 0 | R29: =SUM(F29:Q29) -> 0 | S29: =SUM(R29/12) -> 0 | U29: =U8-U24 | V29: =V8-V24 | W29: =W8-W24 -> 0 | X29: =X8-X24 -> 0 | Y29: =Y8-Y24 -> 0 | Z29: =Z8-Z24 -> 0 | AA29: =AA8-AA24 -> 0 | AB29: =AB8-AB24 -> 0 | ... AF29: =AF8-AF24 -> 0 | AG29: =SUM(U29:AF29) -> 0 | AH29: =SUM(AG29/12) -> 0
A30: Marża na sprzedaży % | F30: =IF(F8=0,"",F29/F8) | G30: =IF(G8=0,"",G29/G8) | H30: =IF(H8=0,"",H29/H8) | I30: =IF(I8=0,"",I29/I8) | J30: =IF(J8=0,"",J29/J8) | K30: =IF(K8=0,"",K29/K8) | L30: =IF(L8=0,"",L29/L8) | M30: =IF(M8=0,"",M29/M8) | ... Q30: =IF(Q8=0,"",Q29/Q8) | U30: =IF(U8=0,"",U29/U8) | V30: =IF(V8=0,"",V29/V8) | W30: =IF(W8=0,"",W29/W8) | X30: =IF(X8=0,"",X29/X8) | Y30: =IF(Y8=0,"",Y29/Y8) | Z30: =IF(Z8=0,"",Z29/Z8) | AA30: =IF(AA8=0,"",AA29/AA8) | AB30: =IF(AB8=0,"",AB29/AB8) | ... AF30: =IF(AF8=0,"",AF29/AF8)
A32: Inne przychody biznesowe | F32: =SUM(F33:F34) | G32: =SUM(G33:G34) | H32: =SUM(H33:H34) -> 0 | I32: =SUM(I33:I34) -> 0 | J32: =SUM(J33:J34) -> 0 | K32: =SUM(K33:K34) -> 0 | L32: =SUM(L33:L34) -> 0 | M32: =SUM(M33:M34) -> 0 | ... Q32: =SUM(Q33:Q34) -> 0 | R32: =SUM(F32:Q32) | S32: =SUM(R32/12) | U32: =SUM(U33:U34) | V32: =SUM(V33:V34) -> 0 | W32: =SUM(W33:W34) -> 0 | X32: =SUM(X33:X34) -> 0 | Y32: =SUM(Y33:Y34) -> 0 | Z32: =SUM(Z33:Z34) -> 0 | AA32: =SUM(AA33:AA34) -> 0 | AB32: =SUM(AB33:AB34) -> 0 | ... AF32: =SUM(AF33:AF34) -> 0 | AG32: =SUM(U32:AF32) | AH32: =SUM(AG32/12)
C33: Źródło 1 | R33: =SUM(F33:Q33) | S33: =R33/12 | AG33: =SUM(U33:AF33) | AH33: =AG33/12
C34: Źródło 2 | R34: =SUM(F34:Q34) | S34: =R34/12 | AG34: =SUM(U34:AF34) | AH34: =AG34/12
A36: Wynagrodzenia (suma brutto) | R36: =SUM(F36:Q36) | S36: =SUM(R36/12) | AG36: =SUM(U36:AF36) | AH36: =SUM(AG36/12)
B37: Wynagrodzenia do wypłaty | F37: =F36-(F36*'Instrukcje'!$E$7) | G37: =G36-(G36*'Instrukcje'!$E$7) | H37: =H36-(H36*'Instrukcje'!$E$7) | I37: =I36-(I36*'Instrukcje'!$E$7) | J37: =J36-(J36*'Instrukcje'!$E$7) | K37: =K36-(K36*'Instrukcje'!$E$7) | L37: =L36-(L36*'Instrukcje'!$E$7) | M37: =M36-(M36*'Instrukcje'!$E$7) | ... Q37: =Q36-(Q36*'Instrukcje'!$E$7) | R37: =SUM(F37:Q37) -> 0 | S37: =SUM(R37/12) -> 0 | U37: =U36-(U36*'Instrukcje'!$E$7) | V37: =V36-(V36*'Instrukcje'!$E$7) | W37: =W36-(W36*'Instrukcje'!$E$7) | X37: =X36-(X36*'Instrukcje'!$E$7) | Y37: =Y36-(Y36*'Instrukcje'!$E$7) | Z37: =Z36-(Z36*'Instrukcje'!$E$7) | AA37: =AA36-(AA36*'Instrukcje'!$E$7) | AB37: =AB36-(AB36*'Instrukcje'!$E$7) | ... AF37: =AF36-(AF36*'Instrukcje'!$E$7) | AG37: =SUM(U37:AF37) -> 0 | AH37: =SUM(AG37/12) -> 0
B38: Pośrednie koszty zatrudnienia | F38: =(0.244)*F36 | G38: =(0.244)*G36 | H38: =(0.244)*H36 | I38: =(0.244)*I36 -> 0 | J38: =(0.244)*J36 -> 0 | K38: =(0.244)*K36 -> 0 | L38: =(0.244)*L36 -> 0 | M38: =(0.244)*M36 -> 0 | ... Q38: =(0.244)*Q36 | R38: =SUM(F38:Q38) -> 0 | S38: =SUM(R38/12) -> 0 | U38: =(0.244)*U36 | V38: =(0.244)*V36 | W38: =(0.244)*W36 -> 0 | X38: =(0.244)*X36 -> 0 | Y38: =(0.244)*Y36 -> 0 | Z38: =(0.244)*Z36 -> 0 | AA38: =(0.244)*AA36 -> 0 | AB38: =(0.244)*AB36 -> 0 | ... AF38: =(0.244)*AF36 -> 0 | AG38: =SUM(U38:AF38) -> 0 | AH38: =SUM(AG38/12) -> 0
B39: Płatność pracodawcy | G39: =F36-F37 | H39: =G36-G37 | I39: =H36-H37 -> 0 | J39: =I36-I37 -> 0 | K39: =J36-J37 -> 0 | L39: =K36-K37 -> 0 | M39: =L36-L37 -> 0 | N39: =M36-M37 -> 0 | ... Q39: =P36-P37 -> 0 | R39: =SUM(F39:Q39) -> 0 | S39: =SUM(R39/12) -> 0 | U39: =Q36-Q37 | V39: =U36-U37 | W39: =V36-V37 | X39: =W36-W37 -> 0 | Y39: =X36-X37 -> 0 | Z39: =Y36-Y37 -> 0 | AA39: =Z36-Z37 -> 0 | AB39: =AA36-AA37 -> 0 | AC39: =AB36-AB37 -> 0 | ... AF39: =AE36-AE37 -> 0 | AG39: =SUM(U39:AF39) -> 0 | AH39: =SUM(AG39/12) -> 0
B40: Dobrowolne koszty personelu | R40: =SUM(F40:Q40) -> 0 | S40: =SUM(R40/12) -> 0 | AG40: =SUM(U40:AF40) -> 0 | AH40: =SUM(AG40/12) -> 0
A41: Dane na temat kosztów personelu | D41: łącznie | F41: =SUM(F37:F40) | G41: =SUM(G37:G40) | H41: =SUM(H37:H40) | I41: =SUM(I37:I40) -> 0 | J41: =SUM(J37:J40) -> 0 | K41: =SUM(K37:K40) -> 0 | L41: =SUM(L37:L40) -> 0 | M41: =SUM(M37:M40) -> 0 | ... Q41: =SUM(Q37:Q40) | R41: =SUM(F41:Q41) -> 0 | S41: =SUM(R41/12) -> 0 | U41: =SUM(U37:U40) | V41: =SUM(V37:V40) | W41: =SUM(W37:W40) -> 0 | X41: =SUM(X37:X40) -> 0 | Y41: =SUM(Y37:Y40) -> 0 | Z41: =SUM(Z37:Z40) -> 0 | AA41: =SUM(AA37:AA40) -> 0 | AB41: =SUM(AB37:AB40) -> 0 | ... AF41: =SUM(AF37:AF40) -> 0 | AG41: =SUM(U41:AF41) -> 0 | AH41: =SUM(AG41/12) -> 0
A43: INNE KOSZTY
B44: Wynajem lokali | R44: =SUM(F44:Q44) | S44: =SUM(R44/12) | AG44: =SUM(U44:AF44) | AH44: =SUM(AG44/12)
B45: Inny najem (np. leasing) | R45: =SUM(F45:Q45) | S45: =SUM(R45/12) -> 0 | AG45: =SUM(U45:AF45) | AH45: =SUM(AG45/12) -> 0
B46: Koszty podróży | R46: =SUM(F46:Q46) | S46: =SUM(R46/12) -> 0 | AG46: =SUM(U46:AF46) | AH46: =SUM(AG46/12) -> 0
...

Sheet Wykresy, rok pierwszy
A1: Wykresy obliczeń przepływów pieniężnych, rok 1 | F1: Instrukcje wykresów
A3: Wyniki obliczeń przepływów pieniężnych (łącznie) | J3: Gotówka (łącznie)
A25: Wyniki księgowe (/Miesiąc) | J25: Kapitał własny
A47: Cele vs. faktyczna dostępność gotówki | K47: Zasób gotówki wystarczający do pokrycia bieżących zobowiązań
K49: Miesiąc | L49: Indeks | N49: Indeks wartość | O49: Opis | P49: Kolor
K50: 1 | L50: ='Gotówka'!F124 | N50: Ponad 2,0 | O50: Ilość gotówki wystarczająca na ponad 6 miesięcy | P50: Zielony
K51: 2 | L51: ='Gotówka'!G124 | N51: 1,0‒2,0 | O51: Ilość gotówki wystarczająca na 3-6 miesięcy | P51: Zielony
K52: 3 | L52: ='Gotówka'!H124 | N52: 0,3‒1,0 | O52: Ilość gotówki wystarczająca na 1-3 miesięcy | P52: Żółty
K53: 4 | L53: ='Gotówka'!I124 | N53: Poniżej 0,3 | O53: Ilość gotówki wystarczająca na mniej niż miesiąc | P53: Czerwony
K54: 5 | L54: ='Gotówka'!J124
K55: 6 | L55: ='Gotówka'!K124 | N55: Metoda obliczeń
K56: 7 | L56: ='Gotówka'!L124 | N56: Gotówka / suma kosztów za upływający kwartał
K57: 8 | L57: ='Gotówka'!M124
K58: 9 | L58: ='Gotówka'!N124
K59: 10 | L59: ='Gotówka'!O124
K60: 11 | L60: ='Gotówka'!P124
K61: 12 | L61: ='Gotówka'!Q124

Sheet Wykresy, rok drugi
A1: Wykresy obliczeń przepływów pieniężnych, rok drugi | F1: Instrukcje wykresów
A3: Wyniki obliczeń przepływów pieniężnych (łącznie) | J3: Gotówka (łącznie)
A25: Wyniki księgowe (/Miesiąc) | J25: Kapitał własny
A47: Cele vs. faktyczna dostępność gotówki | K47: Zasób gotówki wystarczający do pokrycia bieżących zobowiązań
K49: Miesiąc | L49: Indeks | N49: Indeks wartość | O49: Opis | P49: Kolor
K50: 1 | L50: ='Gotówka'!U124 | N50: Ponad 2,0 | O50: Ilość gotówki wystarczająca na ponad 6 miesięcy | P50: Zielony
K51: 2 | L51: ='Gotówka'!V124 | N51: 1,0‒2,0 | O51: Ilość gotówki wystarczająca na 3-6 miesięcy | P51: Zielony
K52: 3 | L52: ='Gotówka'!W124 | N52: 0,3‒1,0 | O52: Ilość gotówki wystarczająca na 1-3 miesięcy | P52: Żółty
K53: 4 | L53: ='Gotówka'!X124 | N53: Poniżej 0,3 | O53: Ilość gotówki wystarczająca na mniej niż miesiąc | P53: Czerwony
K54: 5 | L54: ='Gotówka'!Y124
K55: 6 | L55: ='Gotówka'!Z124 | N55: Metoda obliczeń
K56: 7 | L56: ='Gotówka'!AA124 | N56: Gotówka / suma kosztów za upływający kwartał
K57: 8 | L57: ='Gotówka'!AB124
K58: 9 | L58: ='Gotówka'!AC124
K59: 10 | L59: ='Gotówka'!AD124
K60: 11 | L60: ='Gotówka'!AE124
K61: 12 | L61: ='Gotówka'!AF124

Sheet Instrukcje
A2: Instrukcje obliczania przepływów pieniężnych | D2: Wartości obliczeń przepływów pieniężnych właściwe dla danej spółki
D4: Formuły obliczeń przepływów pieniężnych wykorzystują wartości odnoszące się tu do konkretnej spółki
D7: Podatek potrącany u źródła - 27% + ubezpiecznie społeczne 1.08% | E7: =0.27+0.0108
D8: Sprzedaż - VAT % | E8: 0.24
D9: Zakupy - VAT % | E9: 0.24
D11: Wartości VAT należy zmodyfikować w zależności od polityki danego państwa Program dokonuje obliczeń automatycznie
A16: Instrukcje wprowadzania danych
A18: Pozycja obliczeniowa | B18: Instrukcje
A19: Wynagrodzeia (brutto) | B19: Wynagrodzenia - bez kosztów pośrednich i kosztów pracodawcy Świadczenia za płatny urlop i premie, wprowadzane jako wynagrodzenia za Lipiec Obliczenie ekwiwalentów urlopowych: (miesięczne wynagrodzenia/25) x dni/miesiąc urlopu x 12 miesięcy Obliczanie premii urlopowe: 50% x ekwiwalent urlopowy
A20: Pośrednie koszty pracownika | B20: Składka ubezpieczeniowa emerytalna dla pracowników i przedsiębiorców: koszty wprowadza się jako pośrednie koszty pracownika. Formuły pozwalają na obliczenie wszystkich pośrednich kosztów pracownika, przy założeniu procentowego udziału składki ubezpieczeniowej TyEL w wysokości 24,4%. [UWAGA tłum. w tekście źródłowym podane są stawki procentowe dla realiów fińskich, tekst polski należy uzgodnić z polską rzeczywistością i użyć polskiej stawki procentowej]. Zauważmy, że płatności YEL wykonywane są zgodnie z ustaleniami. W momencie gdy znane są faktyczne koszty YEL/TyEL na miesiąc (tak jak oblicza je instytucja ubezpieczeń emerytalnych) formuły podmieniamy na faktyczne koszty pośrednie. Jeżeli nowi pracownicy zatrudniani są w danym roku fiskalnym, koszty pośrednie należy poprawić tak, by korespondowały z wynagrodzeniami
A21: Podatek potrącony u źródła, średnio 30% | B21: Jeśli zajdzie taka konieczność, stawka procentowa podaktku potrąconego u źródła może zostać zmieniona w komórce Szczegółowy podatek potrącony u źródłą %, w zakładce instrukcje.
A22: Płatność pracodawcy (10 dzień) | B22: Podatek potrącany u źródła - 27% + ubezpiecznie społeczne 1.08% Formuła obliczenia może zostać zastąpiona faktycznymi płatnościami pracodawcy.
A23: Dobrowolne koszty personelu
A24: Najem biura | B24: Najem biura i dowolne negocjowane koszty najmu pomieszczeń i inne koszty najmu infrastruktury
A25: Inny najem (np. leasing) | B25: Np. płatność za leasing sprzętu komputerowego
A26: Usługi biurowe | B26: Np. obsługa lobby, sprzątanie, etc.
A27: Koszty reprezentacyjne
A28: Koszty reklamy, imprezy targowe
A29: Telefon, faks, telefonia komórkowa
A30: Internet, telekomunikacja | B30: Np. koszt połączenia internetowego
A31: Księgowość i audyt
A32: Polisy ubezpieczeniowe | B32: Polisy ubezpieczeniowe majątku firmy, na wypadek np. pożaru, kradzieży, ubezpieczenie odpowiedzialności administracyjnej, etc. Nie wprowadzamy tu kosztów obowiązkowych ubezpieczeń związanych z personelem. Te wprowadzamy w zakładce Pośrednie koszty zatrudnienia
A33: Fracht
A34: Materiały i dostawy
A35: Usługi zewnętrzne
A36: Inne koszty, z wyłączeniem VAT | B36: Np. handel zagraniczny
A37: Inwestycje
A38: VAT | B38: VAT jest płatny 15 dnia miesiąca Szacunkową wartość VAT można znaleźć na końcu tabeli przepływów pieniężnych Płacony VAT należy wprowadzić razem z szacunkiem w wierszu 131, skąd jest pobierany do wiersza 69, w rubryce koszty
A39: Inne podatki | B39: Podatek potrącony u źródła płatny jest 23 dnia miesiąca
A40: Część dotycząca grantów Tekes (Finnish Funding Agency for Innovation) | B40: Brak pożyczek, lub kredyt podporządkowany Te wprowadzane są w rubryce ZWROT KOSZTÓW POŻYCZEK
A41: Kapitał zakładowy
A42: Gotówka początkowa, miesięcznie | B42: Sytuacja gotówka 1. dnia miesiąca Sytuacja gotówkowa wprowadzana jest dla pierwszego miesiąca, którego dotyczą obliczenia. Od tego momentu, sytuacja gotówkowa na koniec miesiąca jest obliczana na podstawie przychodów i kosztów. Sytuacja gotówkowa na początku miesiąca jest automatycznie ustalana, na bazie miesiąca poprzedniego.
A43: Gotówka, koniec miesiąca | B43: Sytuacja gotówkowa ostatniego dnia miesiąca Obliczana automatycznie na podstawie przychodów i kosztów dla danego miesiąca
A44: Wyniki księgowe | B44: Tu wprowadzamy wyniki miesięczne, danych dostarcza księgowość. Uwaga. Wyniki obliczeń przepływów pieniężnyc każdorazowo różnią się i mogą znacząco różnić się od wyników księgowych. Wyniki w zakresie przepływów pieniężnych obejmują inwestycje, jednak nie amortyzację, przychód i koszty - w oparciu o ruchy wartości waluty, a nie na bazie rozliczeń międzyokresowych, i tak dalej.
A45: Cel | B45: Oczekiwana sytuacja gotówkowa ostatniego dnia miesiąca
A46: Gotówka | B46: Pozycja Gotówka odnosi się do sytuacji gotówkowej z przychodami z działalności, natomiast obliczenia dotyczące gotówki biorą pod uwagę także granty, pożyczki i inwestycje. Sytuacja gotówkowa, zgodnie z ww. pozycją, jest również opisana w formie graficznej, na wykresie „gotówka”, w zakładce Wykresy.
A47: DZIAŁALNOŚĆ | B47: Sytuacja gotówkowa w odniesieniu do przychodów z działalności
A48: Granty | B48: Sytuacja gotówkowa w odniesieniu do przychodów z działalności i grantów
A49: POŻYCZKI | B49: Sytuacja gotówkowa w odniesieniu do przychodów z działalności, grantów i pożyczek
A50: Wyniki obliczeń przepływów pieniężnych | B50: Wyniki obliczeń przepływów pieniężnych gdzie przychody/koszty działalności, wraz z wynikami obliczeń, biorącymi pod uwagę także granty, pożyczki, i nakłady inwestycyjne. Uwaga. Wyniki obliczeń przepływów pieniężnych mogą znacząco różnić się od wyników księgowych. Wyniki w zakresie przepływów pieniężnych obejmują inwestycje, jednak nie amortyzację, przychód i koszty - w oparciu o ruchy wartości waluty, a nie na bazie rozliczeń międzyokresowych, i tak dalej.
...
