Workbook
Name _1_Liikevaihto: Instructions!#REF!
Name _10_Muuttuvien_palkkojen_henkilöstösivukulut: Instructions!#REF!
Name _12_Kiinteät_palkat_ja_palkkiot: Instructions!#REF!
Name _122_Aineet_ja_tarvikkeet: Instructions!#REF!
Name _14_Kiinteät_henkilösivukulut: Instructions!#REF!
Name _15.05_Yrityskehitys__laki__teknologia_ja_tuotekehityspalvelut: Instructions!#REF!
Name _311_Opo_n_maksullinen_korotus_tilikauden_aikana: Instructions!#REF!
Name _37.02_TEKES_avustus: Instructions!#REF!
Name _4_Liiketoiminnan_muut_tuotot: Instructions!#REF!
Name _5_Ostot_tilikauden_aikana_A__Ainekäyttö_S: Instructions!#REF!
Name _7_Ulkopuoliset_palvelut: Instructions!#REF!
Name _8_Muuttuvat_palkat_ja_palkkiot: Instructions!#REF!
Name Alv_laskelma: Instructions!$B$52
Name Alv_saldo_ennen_maksuja: Instructions!$B$56
Name Arvonlisävero: Instructions!$B$38
Name Avustukset: Instructions!$B$48
Name Burn_rate: Instructions!#REF!
Name Edustuskulut: Instructions!$B$27
Name Ennakonpidätykset__keskim.35: Instructions!$B$21
Name Erotus_per_kk: Instructions!#REF!
Name Erotus_per_kvartaali: Instructions!#REF!
Name Henkilösivukulut: Instructions!$B$20
Name Internet__tietoliikenne: Instructions!$B$30
Name Investoinnit: Instructions!$B$37
Name Kassa: Instructions!$B$46
Name Kassan_riittävyys: Instructions!$B$51
Name Kassavirtalaskelman_kuvaajat: Instructions!$A$59
Name Kassavirtalaskelman_ohjeet: Instructions!$A$2
Name Kirjanpidon_tulos: Instructions!$B$44
Name Kirjanpito_ja_tilintarkastus: Instructions!$B$31
Name KK_n_alkukassa: Instructions!$B$42
Name KK_n_loppukassa: Instructions!$B$43
Name Kumulatiivinen_tulos: Instructions!$B$50
Name Kuukauden_Alv: Instructions!$B$55
Name Lainat: Instructions!$B$49
Name Lankapuhelin__faksi__gsm: Instructions!$B$29
Name Laskelman_kohta: Instructions!$B$19:$B$57
Name Liiketoiminnan_muut_tuotot: Instructions!#REF!
Name Liiketoiminta: Instructions!$B$47
Name Mainoskulut__messut: Instructions!$B$28
Name Maksettu_Alv: Instructions!$B$57
Name Materiaalit_ja_tarvikkeet: Instructions!$B$34
Name Muut_alvittomat_kulut: Instructions!$B$36
Name Muut_verot: Instructions!$B$39
Name Muut_vuokrat__mm.leasing: Instructions!$B$25
Name Myynnin_ALV: Instructions!#REF!
Name Myynti: Instructions!#REF!
Name Myyynnin_Alv: Instructions!$B$53
Name Osakepääoma: Instructions!$B$41
Name Oston_Alv: Instructions!$B$54
Name Palkat_brutto: Instructions!$B$19
Name Rahti: Instructions!$B$33
Name Suunniteltu_tulos: Instructions!#REF!
Name TA_mallin_ohjeet: Instructions!#REF!
Name Tavoitekassa: Instructions!$B$45
Name Tekes_avustus_osuus: Instructions!$B$40
Name Toimiston_vuokra: Instructions!$B$24
Name Toimistopalvelut: Instructions!$B$26
Name Toteutunut_tulos: Instructions!#REF!
Name Työnantajatilitys__10._pvä: Instructions!$B$22

Sheet Home
C7: THE COMPANY’S FINANCIAL PLANNING
C9: Name of the company: | F9: OwnCompany Ltd
C10: Statement date: | F10: xx.xx.xxxx
C12: © Jyväskylä University of Applied Science, Incubatior training material

Sheet Cash
A2: NAME OF THE COMPANY: | F2: 1st year | O2: Cash-flow calculation instructions | U2: 2nd year
B3: =Home!F9 -> OwnCompany Ltd | O3: Version 2.3.2017
R5: 1st year | AG5: 1st year
F6: month | G6: month | H6: month | I6: month | J6: month | K6: month | L6: month | M6: month | N6: month | O6: month | P6: month | Q6: month | R6: Total | S6: Per month | U6: month | V6: month | W6: month | X6: month | Y6: month | Z6: month | AA6: month | AB6: month | AC6: month | AD6: month | AE6: month | AF6: month | AG6: Total | AH6: Per month
F7: 1st month | G7: 2nd month | H7: 3rd month | I7: 4th month | J7: 5th month | K7: 6th month | L7: 7th month | M7: 8th month | N7: 9th month | O7: 10th month | P7: 11th month | Q7: 12th month | U7: 1st month | V7: 2nd month | W7: 3rd month | X7: 4th month | Y7: 5th month | Z7: 6th month | AA7: 7th month | AB7: 8th month | AC7: 9th month | AD7: 10th month | AE7: 11th month | AF7: 12th month
A8: TOTAL REVENUE (INCL. VAT) | F8: =SUM(F9:F22) -> 0 | G8: =SUM(G9:G22) -> 0 | H8: =SUM(H9:H22) -> 0 | I8: =SUM(I9:I22) -> 0 | J8: =SUM(J9:J22) -> 0 | K8: =SUM(K9:K22) -> 0 | L8: =SUM(L9:L22) -> 0 | M8: =SUM(M9:M22) -> 0 | ... Q8: =SUM(Q9:Q22) -> 0 | R8: =SUM(F8:Q8) -> 0 | S8: =R8/12 -> 0 | U8: =SUM(U9:U22) -> 0 | V8: =SUM(V9:V22) -> 0 | W8: =SUM(W9:W22) -> 0 | X8: =SUM(X9:X22) -> 0 | Y8: =SUM(Y9:Y22) -> 0 | Z8: =SUM(Z9:Z22) -> 0 | AA8: =SUM(AA9:AA22) -> 0 | AB8: =SUM(AB9:AB22) -> 0 | ... AF8: =SUM(AF9:AF22) -> 0 | AG8: =SUM(U8:AF8) -> 0 | AH8: =AG8/12 -> 0
C9: Product or customer group | R9: =SUM(F9:Q9) -> 0 | S9: =SUM(R9/12) -> 0 | AG9: =SUM(U9:AF9) -> 0 | AH9: =SUM(AG9/12) -> 0
C10: Product or customer group | R10: =SUM(F10:Q10) -> 0 | S10: =SUM(R10/12) -> 0 | AG10: =SUM(U10:AF10) -> 0 | AH10: =SUM(AG10/12) -> 0
C11: Product or customer group | R11: =SUM(F11:Q11) -> 0 | S11: =SUM(R11/12) -> 0 | AG11: =SUM(U11:AF11) -> 0 | AH11: =SUM(AG11/12) -> 0
C12: Product or customer group | R12: =SUM(F12:Q12) -> 0 | S12: =SUM(R12/12) -> 0 | AG12: =SUM(U12:AF12) -> 0 | AH12: =SUM(AG12/12) -> 0
C13: Product or customer group | R13: =SUM(F13:Q13) -> 0 | S13: =SUM(R13/12) -> 0 | AG13: =SUM(U13:AF13) -> 0 | AH13: =SUM(AG13/12) -> 0
C14: Product or customer group | R14: =SUM(F14:Q14) -> 0 | S14: =SUM(R14/12) -> 0 | AG14: =SUM(U14:AF14) -> 0 | AH14: =SUM(AG14/12) -> 0
C15: Product or customer group | R15: =SUM(F15:Q15) -> 0 | S15: =SUM(R15/12) -> 0 | AG15: =SUM(U15:AF15) -> 0 | AH15: =SUM(AG15/12) -> 0
C16: Product or customer group | R16: =SUM(F16:Q16) -> 0 | S16: =SUM(R16/12) -> 0 | AG16: =SUM(U16:AF16) -> 0 | AH16: =SUM(AG16/12) -> 0
C17: Product or customer group | R17: =SUM(F17:Q17) -> 0 | S17: =SUM(R17/12) -> 0 | AG17: =SUM(U17:AF17) -> 0 | AH17: =SUM(AG17/12) -> 0
C18: Product or customer group | R18: =SUM(F18:Q18) -> 0 | S18: =SUM(R18/12) -> 0 | AG18: =SUM(U18:AF18) -> 0 | AH18: =SUM(AG18/12) -> 0
C19: Product or customer group | R19: =SUM(F19:Q19) -> 0 | S19: =SUM(R19/12) -> 0 | AG19: =SUM(U19:AF19) -> 0 | AH19: =SUM(AG19/12) -> 0
C20: Product or customer group | R20: =SUM(F20:Q20) -> 0 | S20: =SUM(R20/12) -> 0 | AG20: =SUM(U20:AF20) -> 0 | AH20: =SUM(AG20/12) -> 0
C21: =CONCATENATE("VAT ",D21*100,"% sales (add % to D21)") -> VAT 10% sales (add % to D21) | D21: 0.1 | R21: =SUM(F21:Q21) -> 0 | S21: =SUM(R21/12) -> 0 | AG21: =SUM(U21:AF21) -> 0 | AH21: =SUM(AG21/12) -> 0
C22: VAT 0% sales (foreign trade, etc.) | R22: =SUM(F22:Q22) -> 0 | S22: =SUM(R22/12) -> 0 | AG22: =SUM(U22:AF22) -> 0 | AH22: =SUM(AG22/12) -> 0
A24: Direct purchases/subcontracting | F24: =SUM(F25:F28) -> 0 | G24: =SUM(G25:G28) -> 0 | H24: =SUM(H25:H28) -> 0 | I24: =SUM(I25:I28) -> 0 | J24: =SUM(J25:J28) -> 0 | K24: =SUM(K25:K28) -> 0 | L24: =SUM(L25:L28) -> 0 | M24: =SUM(M25:M28) -> 0 | ... Q24: =SUM(Q25:Q28) -> 0 | R24: =SUM(F24:Q24) -> 0 | S24: =SUM(R24/12) -> 0 | U24: =SUM(U25:U28) -> 0 | V24: =SUM(V25:V28) -> 0 | W24: =SUM(W25:W28) -> 0 | X24: =SUM(X25:X28) -> 0 | Y24: =SUM(Y25:Y28) -> 0 | Z24: =SUM(Z25:Z28) -> 0 | AA24: =SUM(AA25:AA28) -> 0 | AB24: =SUM(AB25:AB28) -> 0 | ... AF24: =SUM(AF25:AF28) -> 0 | AG24: =SUM(U24:AF24) -> 0 | AH24: =SUM(AG24/12) -> 0
B25: Material purchases | R25: =SUM(F25:Q25) -> 0 | S25: =SUM(R25/12) -> 0 | AG25: =SUM(U25:AF25) -> 0 | AH25: =SUM(AG25/12) -> 0
B26: Subcontracting purchases | R26: =SUM(F26:Q26) -> 0 | S26: =SUM(R26/12) -> 0 | AG26: =SUM(U26:AF26) -> 0 | AH26: =SUM(AG26/12) -> 0
B27: Other direct costs | R27: =SUM(F27:Q27) -> 0 | S27: =SUM(R27/12) -> 0 | AG27: =SUM(U27:AF27) -> 0 | AH27: =SUM(AG27/12) -> 0
B28: =CONCATENATE("VAT ",D28*100,"% costs (add % to D28)") -> VAT 10% costs (add % to D28) | D28: 0.1 | R28: =SUM(F28:Q28) -> 0 | S28: =SUM(R28/12) -> 0 | AG28: =SUM(U28:AF28) -> 0
A29: Sales margin | F29: =F8-F24 -> 0 | G29: =G8-G24 -> 0 | H29: =H8-H24 -> 0 | I29: =I8-I24 -> 0 | J29: =J8-J24 -> 0 | K29: =K8-K24 -> 0 | L29: =L8-L24 -> 0 | M29: =M8-M24 -> 0 | ... Q29: =Q8-Q24 -> 0 | R29: =SUM(F29:Q29) -> 0 | S29: =SUM(R29/12) -> 0 | U29: =U8-U24 -> 0 | V29: =V8-V24 -> 0 | W29: =W8-W24 -> 0 | X29: =X8-X24 -> 0 | Y29: =Y8-Y24 -> 0 | Z29: =Z8-Z24 -> 0 | AA29: =AA8-AA24 -> 0 | AB29: =AB8-AB24 -> 0 | ... AF29: =AF8-AF24 -> 0 | AG29: =SUM(U29:AF29) -> 0 | AH29: =SUM(AG29/12) -> 0
A30: Sales margin % | F30: =IF(F8=0,"",F29/F8) | G30: =IF(G8=0,"",G29/G8) | H30: =IF(H8=0,"",H29/H8) | I30: =IF(I8=0,"",I29/I8) | J30: =IF(J8=0,"",J29/J8) | K30: =IF(K8=0,"",K29/K8) | L30: =IF(L8=0,"",L29/L8) | M30: =IF(M8=0,"",M29/M8) | ... Q30: =IF(Q8=0,"",Q29/Q8) | U30: =IF(U8=0,"",U29/U8) | V30: =IF(V8=0,"",V29/V8) | W30: =IF(W8=0,"",W29/W8) | X30: =IF(X8=0,"",X29/X8) | Y30: =IF(Y8=0,"",Y29/Y8) | Z30: =IF(Z8=0,"",Z29/Z8) | AA30: =IF(AA8=0,"",AA29/AA8) | AB30: =IF(AB8=0,"",AB29/AB8) | ... AF30: =IF(AF8=0,"",AF29/AF8)
A32: Other business revenues | F32: =SUM(F33:F34) -> 0 | G32: =SUM(G33:G34) -> 0 | H32: =SUM(H33:H34) -> 0 | I32: =SUM(I33:I34) -> 0 | J32: =SUM(J33:J34) -> 0 | K32: =SUM(K33:K34) -> 0 | L32: =SUM(L33:L34) -> 0 | M32: =SUM(M33:M34) -> 0 | ... Q32: =SUM(Q33:Q34) -> 0 | R32: =SUM(F32:Q32) -> 0 | S32: =SUM(R32/12) -> 0 | U32: =SUM(U33:U34) -> 0 | V32: =SUM(V33:V34) -> 0 | W32: =SUM(W33:W34) -> 0 | X32: =SUM(X33:X34) -> 0 | Y32: =SUM(Y33:Y34) -> 0 | Z32: =SUM(Z33:Z34) -> 0 | AA32: =SUM(AA33:AA34) -> 0 | AB32: =SUM(AB33:AB34) -> 0 | ... AF32: =SUM(AF33:AF34) -> 0 | AG32: =SUM(U32:AF32) -> 0 | AH32: =SUM(AG32/12) -> 0
C33: Source 1 | R33: =SUM(F33:Q33) -> 0 | S33: =R33/12 -> 0 | AG33: =SUM(U33:AF33) -> 0 | AH33: =AG33/12 -> 0
C34: Source 2 | R34: =SUM(F34:Q34) -> 0 | S34: =R34/12 -> 0 | AG34: =SUM(U34:AF34) -> 0 | AH34: =AG34/12 -> 0
A36: SALARIES (gross total) | R36: =SUM(F36:Q36) -> 0 | S36: =SUM(R36/12) -> 0 | AG36: =SUM(U36:AF36) -> 0 | AH36: =SUM(AG36/12) -> 0
B37: Payable salaries | F37: =F36-(F36*Instructions!$E$7) -> 0 | G37: =G36-(G36*Instructions!$E$7) -> 0 | H37: =H36-(H36*Instructions!$E$7) -> 0 | I37: =I36-(I36*Instructions!$E$7) -> 0 | J37: =J36-(J36*Instructions!$E$7) -> 0 | K37: =K36-(K36*Instructions!$E$7) -> 0 | L37: =L36-(L36*Instructions!$E$7) -> 0 | M37: =M36-(M36*Instructions!$E$7) -> 0 | ... Q37: =Q36-(Q36*Instructions!$E$7) -> 0 | R37: =SUM(F37:Q37) -> 0 | S37: =SUM(R37/12) -> 0 | U37: =U36-(U36*Instructions!$E$7) -> 0 | V37: =V36-(V36*Instructions!$E$7) -> 0 | W37: =W36-(W36*Instructions!$E$7) -> 0 | X37: =X36-(X36*Instructions!$E$7) -> 0 | Y37: =Y36-(Y36*Instructions!$E$7) -> 0 | Z37: =Z36-(Z36*Instructions!$E$7) -> 0 | AA37: =AA36-(AA36*Instructions!$E$7) -> 0 | AB37: =AB36-(AB36*Instructions!$E$7) -> 0 | ... AF37: =AF36-(AF36*Instructions!$E$7) -> 0 | AG37: =SUM(U37:AF37) -> 0 | AH37: =SUM(AG37/12) -> 0
B38: Indirect employee costs | F38: =(0.244)*F36 -> 0 | G38: =(0.244)*G36 -> 0 | H38: =(0.244)*H36 -> 0 | I38: =(0.244)*I36 -> 0 | J38: =(0.244)*J36 -> 0 | K38: =(0.244)*K36 -> 0 | L38: =(0.244)*L36 -> 0 | M38: =(0.244)*M36 -> 0 | ... Q38: =(0.244)*Q36 -> 0 | R38: =SUM(F38:Q38) -> 0 | S38: =SUM(R38/12) -> 0 | U38: =(0.244)*U36 -> 0 | V38: =(0.244)*V36 -> 0 | W38: =(0.244)*W36 -> 0 | X38: =(0.244)*X36 -> 0 | Y38: =(0.244)*Y36 -> 0 | Z38: =(0.244)*Z36 -> 0 | AA38: =(0.244)*AA36 -> 0 | AB38: =(0.244)*AB36 -> 0 | ... AF38: =(0.244)*AF36 -> 0 | AG38: =SUM(U38:AF38) -> 0 | AH38: =SUM(AG38/12) -> 0
B39: Employer payments | G39: =F36-F37 -> 0 | H39: =G36-G37 -> 0 | I39: =H36-H37 -> 0 | J39: =I36-I37 -> 0 | K39: =J36-J37 -> 0 | L39: =K36-K37 -> 0 | M39: =L36-L37 -> 0 | N39: =M36-M37 -> 0 | ... Q39: =P36-P37 -> 0 | R39: =SUM(F39:Q39) -> 0 | S39: =SUM(R39/12) -> 0 | U39: =Q36-Q37 -> 0 | V39: =U36-U37 -> 0 | W39: =V36-V37 -> 0 | X39: =W36-W37 -> 0 | Y39: =X36-X37 -> 0 | Z39: =Y36-Y37 -> 0 | AA39: =Z36-Z37 -> 0 | AB39: =AA36-AA37 -> 0 | AC39: =AB36-AB37 -> 0 | ... AF39: =AE36-AE37 -> 0 | AG39: =SUM(U39:AF39) -> 0 | AH39: =SUM(AG39/12) -> 0
B40: Voluntary personnel costs | R40: =SUM(F40:Q40) -> 0 | S40: =SUM(R40/12) -> 0 | AG40: =SUM(U40:AF40) -> 0 | AH40: =SUM(AG40/12) -> 0
A41: Personnel costs total | D41: total | F41: =SUM(F37:F40) -> 0 | G41: =SUM(G37:G40) -> 0 | H41: =SUM(H37:H40) -> 0 | I41: =SUM(I37:I40) -> 0 | J41: =SUM(J37:J40) -> 0 | K41: =SUM(K37:K40) -> 0 | L41: =SUM(L37:L40) -> 0 | M41: =SUM(M37:M40) -> 0 | ... Q41: =SUM(Q37:Q40) -> 0 | R41: =SUM(F41:Q41) -> 0 | S41: =SUM(R41/12) -> 0 | U41: =SUM(U37:U40) -> 0 | V41: =SUM(V37:V40) -> 0 | W41: =SUM(W37:W40) -> 0 | X41: =SUM(X37:X40) -> 0 | Y41: =SUM(Y37:Y40) -> 0 | Z41: =SUM(Z37:Z40) -> 0 | AA41: =SUM(AA37:AA40) -> 0 | AB41: =SUM(AB37:AB40) -> 0 | ... AF41: =SUM(AF37:AF40) -> 0 | AG41: =SUM(U41:AF41) -> 0 | AH41: =SUM(AG41/12) -> 0
A43: OTHER COSTS
B44: Facility rents | R44: =SUM(F44:Q44) -> 0 | S44: =SUM(R44/12) -> 0 | AG44: =SUM(U44:AF44) -> 0 | AH44: =SUM(AG44/12) -> 0
B45: Other rents (e.g. leasing) | R45: =SUM(F45:Q45) -> 0 | S45: =SUM(R45/12) -> 0 | AG45: =SUM(U45:AF45) -> 0 | AH45: =SUM(AG45/12) -> 0
B46: Travel costs | R46: =SUM(F46:Q46) -> 0 | S46: =SUM(R46/12) -> 0 | AG46: =SUM(U46:AF46) -> 0 | AH46: =SUM(AG46/12) -> 0
...

Sheet Graphs, 1st year
A1: Cash-flow calculation graphs, 1st year | F1: Graph instructions
A3: Cash-flow calculation result (cumulative) | J3: Cash (cumulative)
A25: Accounting result (/month) | J25: Own capital
A47: Objective vs. actual cash | K47: Cash sufficiency
K49: Month | L49: Index | N49: Index value | O49: Description | P49: Colour
K50: 1 | L50: =Cash!F124 -> 0 | N50: Over 2.0 | O50: Cash sufficient for over 6 months | P50: Green
K51: 2 | L51: =Cash!G124 -> 0 | N51: 1.0‒2.0 | O51: Cash sufficient for 3‒6 months | P51: Green
K52: 3 | L52: =Cash!H124 -> 0 | N52: 0.3‒1.0 | O52: Cash sufficient for 1‒3 months | P52: Yellow
K53: 4 | L53: =Cash!I124 -> 0 | N53: Under 0.3 | O53: Cash sufficient for less than 1 month | P53: Red
K54: 5 | L54: =Cash!J124 -> 0
K55: 6 | L55: =Cash!K124 -> 0 | N55: Calculation method:
K56: 7 | L56: =Cash!L124 -> 0 | N56: Cash / the sum of the previous 3 months’ costs
K57: 8 | L57: =Cash!M124 -> 0
K58: 9 | L58: =Cash!N124 -> 0
K59: 10 | L59: =Cash!O124 -> 0
K60: 11 | L60: =Cash!P124 -> 0
K61: 12 | L61: =Cash!Q124 -> 0

Sheet Graphs, 2nd year
A1: Cash-flow calculation graphs, 2nd year | F1: Graph instructions
A3: Cash-flow calculation result (cumulative) | J3: Cash (cumulative)
A25: Accounting result (/month) | J25: Own capital
A47: Objective vs. actual cash | K47: Cash sufficiency
K49: Month | L49: Index | N49: Index value | O49: Description | P49: Colour
K50: 1 | L50: =Cash!U124 -> 0 | N50: Over 2.0 | O50: Cash sufficient for over 6 months | P50: Green
K51: 2 | L51: =Cash!V124 -> 0 | N51: 1.0‒2.0 | O51: Cash sufficient for 3‒6 months | P51: Green
K52: 3 | L52: =Cash!W124 -> 0 | N52: 0.3‒1.0 | O52: Cash sufficient for 1‒3 months | P52: Yellow
K53: 4 | L53: =Cash!X124 -> 0 | N53: Under 0.3 | O53: Cash sufficient for less than 1 month | P53: Red
K54: 5 | L54: =Cash!Y124 -> 0
K55: 6 | L55: =Cash!Z124 -> 0 | N55: Calculation method:
K56: 7 | L56: =Cash!AA124 -> 0 | N56: Cash / the sum of the previous 3 months’ costs
K57: 8 | L57: =Cash!AB124 -> 0
K58: 9 | L58: =Cash!AC124 -> 0
K59: 10 | L59: =Cash!AD124 -> 0
K60: 11 | L60: =Cash!AE124 -> 0
K61: 12 | L61: =Cash!AF124 -> 0

Sheet Instructions
A2: Cash-flow calculation instructions | D2: Company-specific values of the cash-flow calculation
D4: The formulas of the cash-flow calculation use the company-specific
D5: values specified here
D7: Withholding tax 27% + social security 1.08% = | E7: =0.27+0.0108 -> 0.2808
D8: Sales VAT % | E8: 0.24
D9: Purchasing VAT % | E9: 0.24
D11: Note: modify VATs based on your country policy. The programme atomatically calculates it
A16: Entry instructions
A18: Calculation item | B18: Instructions
A19: Salaries (gross) | B19: Salaries without indirect employee costs and employer payments. Payable holiday pays and bonuses are entered as salaries for July. Holiday pay calculation: (monthly salary / 25) x holiday days/month x 12 months Holiday bonus calculation: 50% x holiday pay
A20: Indirect employee costs | B20: TyEL (pension insurance for employees) and YEL (pension insurance for entrepreneurs) costs are entered as indirect employee costs. The formulas calculate all employees’ indirect costs with the TyEL percentage (24.4%). Please note that YEL payments are made as agreed. When the actual YEL/TyEL costs/month are known (as calculated by the pension insurance company), the formulas are replaced with the actual indirect costs. If new employees are hired during the fiscal period, the indirect costs must be corrected so that they correspond with the salaries.
A21: Withholding tax, on average 30% | B21: If necessary, the withholding tax percentage can be changed under Detailed withholding tax % on the Instructions tab
A22: Employer payments (10th day) | B22: Withholding tax 27% + social security 1.08%. The formulas of the calculation can be replaced with actual employer payments
A23: Voluntary personnel costs
A24: Office rent | B24: Office rent and any negotiation room rents and other facility rents
A25: Other rents (e.g. leasing) | B25: E.g. computer leasing payments
A26: Office services | B26: E.g. lobby services, cleaning, etc.
A27: Representational costs
A28: Advertising costs, trade fairs
A29: Landline, fax, GSM
A30: Internet, telecommunications | B30: E.g. internet connection
A31: Accounting and auditing
A32: Insurance policies | B32: The company’s property insurance policies, e.g. fire, theft or administrative liability insurance, etc. No obligatory personnel-related insurances entered here. Those are entered under Indirect employee costs.
A33: Freight
A34: Materials and supplies
A35: External services
A36: Other costs excluding VAT | B36: E.g. foreign trade
A37: Investments
A38: VAT | B38: VAT is paid on the 15th day of the month. A VAT estimate can be found at the end of the cash-flow table. Payable VAT must be entered in connection with the estimate on row 131, from where it is retrieved onto row 69 under costs
A39: Other taxes | B39: Withholding tax is paid on the 23rd day of the month
A40: Tekes (Finnish Funding Agency for Innovation) grant portion | B40: No loans or subordinated loans. Those are entered under Loan disbursements
A41: Share capital
A42: Monthly starting cash | B42: Cash situation on the 1st day of the month. The cash situation is entered for the first month of the calculation. From there on, the cash situation at the end of the month is calculated based on revenues and costs. The cash situation at the start of the month is automatically that of the previous month
A43: Monthly end cash | B43: Cash situation on the last day of the month. Calculated automatically based on the revenues and costs of the month
A44: Accounting result | B44: Monthly result received from accounting, must be entered. Please note that the result of the cash-flow calculation is always different and can be very different from the accounting result, as the result of the cash-flow calculation includes investments but not depreciations, income and costs based on currency movement and not on an accruals basis, and so on
A45: Objective | B45: Objective cash situation on the last day of the month
A46: Cash | B46: The Cash item illustrates the cash situation with business revenues and with the cash calculation also taking grants, loans and capital investments into account. Cash development in accordance with this item can also be found in a graphical form on the Cash graph on the Graphs tab.
A47: Business | B47: Cash situation with revenue from business
A48: Grants | B48: Cash situation with revenue from business and grants
A49: Loans | B49: Cash situation with revenue from business, grants and loans
...
